BEGIN:VCALENDAR
VERSION:2.0
PRODID:-//Maison des jeunes BGC de Neuville - ECPv6.15.20//NONSGML v1.0//EN
CALSCALE:GREGORIAN
METHOD:PUBLISH
X-ORIGINAL-URL:https://mdjneuville.com
X-WR-CALDESC:Événements pour Maison des jeunes BGC de Neuville
REFRESH-INTERVAL;VALUE=DURATION:PT1H
X-Robots-Tag:noindex
X-PUBLISHED-TTL:PT1H
BEGIN:VTIMEZONE
TZID:America/Toronto
BEGIN:DAYLIGHT
TZOFFSETFROM:-0500
TZOFFSETTO:-0400
TZNAME:EDT
DTSTART:20250309T070000
END:DAYLIGHT
BEGIN:STANDARD
TZOFFSETFROM:-0400
TZOFFSETTO:-0500
TZNAME:EST
DTSTART:20251102T060000
END:STANDARD
BEGIN:DAYLIGHT
TZOFFSETFROM:-0500
TZOFFSETTO:-0400
TZNAME:EDT
DTSTART:20260308T070000
END:DAYLIGHT
BEGIN:STANDARD
TZOFFSETFROM:-0400
TZOFFSETTO:-0500
TZNAME:EST
DTSTART:20261101T060000
END:STANDARD
BEGIN:DAYLIGHT
TZOFFSETFROM:-0500
TZOFFSETTO:-0400
TZNAME:EDT
DTSTART:20270314T070000
END:DAYLIGHT
BEGIN:STANDARD
TZOFFSETFROM:-0400
TZOFFSETTO:-0500
TZNAME:EST
DTSTART:20271107T060000
END:STANDARD
BEGIN:DAYLIGHT
TZOFFSETFROM:-0500
TZOFFSETTO:-0400
TZNAME:EDT
DTSTART:20280312T070000
END:DAYLIGHT
BEGIN:STANDARD
TZOFFSETFROM:-0400
TZOFFSETTO:-0500
TZNAME:EST
DTSTART:20281105T060000
END:STANDARD
END:VTIMEZONE
BEGIN:VEVENT
DTSTART;TZID=America/Toronto:20261226T170000
DTEND;TZID=America/Toronto:20261226T230000
DTSTAMP:20260420T235259
CREATED:20260218T214023Z
LAST-MODIFIED:20260324T013642Z
UID:10001701-1798304400-1798326000@mdjneuville.com
SUMMARY:Soirée libre
DESCRIPTION:Soirée libre à la MDJ pour les ados (12-17 ans).\nConsulte notre page Facebook ou Instagram pour savoir quels anims seront présents ce soir !
URL:https://mdjneuville.com/activite/soiree-libre-51/2026-12-26/
LOCATION:Maison des Jeunes de Neuville
CATEGORIES:Soirées libres
ATTACH;FMTTYPE=image/png:https://mdjneuville.com/wp-content/uploads/2025/10/Soiree-Libre.png
END:VEVENT
BEGIN:VEVENT
DTSTART;TZID=America/Toronto:20261230T170000
DTEND;TZID=America/Toronto:20261230T220000
DTSTAMP:20260420T235259
CREATED:20260218T213033Z
LAST-MODIFIED:20260324T012903Z
UID:10000707-1798650000-1798668000@mdjneuville.com
SUMMARY:Soirée libre
DESCRIPTION:Soirée libre à la MDJ pour les ados (12-17 ans).\nConsulte notre page Facebook ou Instagram pour savoir quels anims seront présents ce soir !
URL:https://mdjneuville.com/activite/soiree-libre-49/2026-12-30/
LOCATION:Maison des Jeunes de Neuville
CATEGORIES:Soirées libres
ATTACH;FMTTYPE=image/png:https://mdjneuville.com/wp-content/uploads/2025/10/Soiree-Libre.png
END:VEVENT
BEGIN:VEVENT
DTSTART;TZID=America/Toronto:20261231T170000
DTEND;TZID=America/Toronto:20261231T220000
DTSTAMP:20260420T235259
CREATED:20260218T213033Z
LAST-MODIFIED:20260324T012903Z
UID:10000708-1798736400-1798754400@mdjneuville.com
SUMMARY:Soirée libre
DESCRIPTION:Soirée libre à la MDJ pour les ados (12-17 ans).\nConsulte notre page Facebook ou Instagram pour savoir quels anims seront présents ce soir !
URL:https://mdjneuville.com/activite/soiree-libre-49/2026-12-31/
LOCATION:Maison des Jeunes de Neuville
CATEGORIES:Soirées libres
ATTACH;FMTTYPE=image/png:https://mdjneuville.com/wp-content/uploads/2025/10/Soiree-Libre.png
END:VEVENT
BEGIN:VEVENT
DTSTART;TZID=America/Toronto:20270101T150000
DTEND;TZID=America/Toronto:20270101T180000
DTSTAMP:20260420T235259
CREATED:20260303T205657Z
LAST-MODIFIED:20260324T013053Z
UID:10001966-1798815600-1798826400@mdjneuville.com
SUMMARY:Projet relève
DESCRIPTION:Période d’ouverture pour les jeunes de 5ième et 6ième année de l’école Courval.
URL:https://mdjneuville.com/activite/projet-releve-21/2027-01-01/
LOCATION:Maison des Jeunes de Neuville
CATEGORIES:Relèves
ATTACH;FMTTYPE=image/png:https://mdjneuville.com/wp-content/uploads/2025/10/IMAGE-PROJET-RELEVE.png
END:VEVENT
BEGIN:VEVENT
DTSTART;TZID=America/Toronto:20270101T180000
DTEND;TZID=America/Toronto:20270101T230000
DTSTAMP:20260420T235259
CREATED:20260303T215156Z
LAST-MODIFIED:20260323T231137Z
UID:10002498-1798826400-1798844400@mdjneuville.com
SUMMARY:Soirée libre
DESCRIPTION:Soirée libre à la MDJ pour les ados (12-17 ans).\nConsulte notre page Facebook ou Instagram pour savoir quels anims seront présents ce soir !
URL:https://mdjneuville.com/activite/soiree-libre-52/2027-01-01/
LOCATION:Maison des Jeunes de Neuville
CATEGORIES:Soirées libres
ATTACH;FMTTYPE=image/png:https://mdjneuville.com/wp-content/uploads/2025/10/Soiree-Libre.png
END:VEVENT
BEGIN:VEVENT
DTSTART;TZID=America/Toronto:20270102T170000
DTEND;TZID=America/Toronto:20270102T230000
DTSTAMP:20260420T235259
CREATED:20260218T214023Z
LAST-MODIFIED:20260324T013642Z
UID:10001702-1798909200-1798930800@mdjneuville.com
SUMMARY:Soirée libre
DESCRIPTION:Soirée libre à la MDJ pour les ados (12-17 ans).\nConsulte notre page Facebook ou Instagram pour savoir quels anims seront présents ce soir !
URL:https://mdjneuville.com/activite/soiree-libre-51/2027-01-02/
LOCATION:Maison des Jeunes de Neuville
CATEGORIES:Soirées libres
ATTACH;FMTTYPE=image/png:https://mdjneuville.com/wp-content/uploads/2025/10/Soiree-Libre.png
END:VEVENT
BEGIN:VEVENT
DTSTART;TZID=America/Toronto:20270106T170000
DTEND;TZID=America/Toronto:20270106T220000
DTSTAMP:20260420T235259
CREATED:20260218T213033Z
LAST-MODIFIED:20260324T012903Z
UID:10000709-1799254800-1799272800@mdjneuville.com
SUMMARY:Soirée libre
DESCRIPTION:Soirée libre à la MDJ pour les ados (12-17 ans).\nConsulte notre page Facebook ou Instagram pour savoir quels anims seront présents ce soir !
URL:https://mdjneuville.com/activite/soiree-libre-49/2027-01-06/
LOCATION:Maison des Jeunes de Neuville
CATEGORIES:Soirées libres
ATTACH;FMTTYPE=image/png:https://mdjneuville.com/wp-content/uploads/2025/10/Soiree-Libre.png
END:VEVENT
BEGIN:VEVENT
DTSTART;TZID=America/Toronto:20270107T170000
DTEND;TZID=America/Toronto:20270107T220000
DTSTAMP:20260420T235259
CREATED:20260218T213033Z
LAST-MODIFIED:20260324T012903Z
UID:10000710-1799341200-1799359200@mdjneuville.com
SUMMARY:Soirée libre
DESCRIPTION:Soirée libre à la MDJ pour les ados (12-17 ans).\nConsulte notre page Facebook ou Instagram pour savoir quels anims seront présents ce soir !
URL:https://mdjneuville.com/activite/soiree-libre-49/2027-01-07/
LOCATION:Maison des Jeunes de Neuville
CATEGORIES:Soirées libres
ATTACH;FMTTYPE=image/png:https://mdjneuville.com/wp-content/uploads/2025/10/Soiree-Libre.png
END:VEVENT
BEGIN:VEVENT
DTSTART;TZID=America/Toronto:20270108T150000
DTEND;TZID=America/Toronto:20270108T180000
DTSTAMP:20260420T235259
CREATED:20260303T205657Z
LAST-MODIFIED:20260324T013053Z
UID:10001967-1799420400-1799431200@mdjneuville.com
SUMMARY:Projet relève
DESCRIPTION:Période d’ouverture pour les jeunes de 5ième et 6ième année de l’école Courval.
URL:https://mdjneuville.com/activite/projet-releve-21/2027-01-08/
LOCATION:Maison des Jeunes de Neuville
CATEGORIES:Relèves
ATTACH;FMTTYPE=image/png:https://mdjneuville.com/wp-content/uploads/2025/10/IMAGE-PROJET-RELEVE.png
END:VEVENT
BEGIN:VEVENT
DTSTART;TZID=America/Toronto:20270108T180000
DTEND;TZID=America/Toronto:20270108T230000
DTSTAMP:20260420T235259
CREATED:20260303T215156Z
LAST-MODIFIED:20260323T231137Z
UID:10002499-1799431200-1799449200@mdjneuville.com
SUMMARY:Soirée libre
DESCRIPTION:Soirée libre à la MDJ pour les ados (12-17 ans).\nConsulte notre page Facebook ou Instagram pour savoir quels anims seront présents ce soir !
URL:https://mdjneuville.com/activite/soiree-libre-52/2027-01-08/
LOCATION:Maison des Jeunes de Neuville
CATEGORIES:Soirées libres
ATTACH;FMTTYPE=image/png:https://mdjneuville.com/wp-content/uploads/2025/10/Soiree-Libre.png
END:VEVENT
BEGIN:VEVENT
DTSTART;TZID=America/Toronto:20270109T170000
DTEND;TZID=America/Toronto:20270109T230000
DTSTAMP:20260420T235259
CREATED:20260218T214023Z
LAST-MODIFIED:20260324T013642Z
UID:10001703-1799514000-1799535600@mdjneuville.com
SUMMARY:Soirée libre
DESCRIPTION:Soirée libre à la MDJ pour les ados (12-17 ans).\nConsulte notre page Facebook ou Instagram pour savoir quels anims seront présents ce soir !
URL:https://mdjneuville.com/activite/soiree-libre-51/2027-01-09/
LOCATION:Maison des Jeunes de Neuville
CATEGORIES:Soirées libres
ATTACH;FMTTYPE=image/png:https://mdjneuville.com/wp-content/uploads/2025/10/Soiree-Libre.png
END:VEVENT
BEGIN:VEVENT
DTSTART;TZID=America/Toronto:20270113T170000
DTEND;TZID=America/Toronto:20270113T220000
DTSTAMP:20260420T235259
CREATED:20260218T213033Z
LAST-MODIFIED:20260324T012903Z
UID:10000711-1799859600-1799877600@mdjneuville.com
SUMMARY:Soirée libre
DESCRIPTION:Soirée libre à la MDJ pour les ados (12-17 ans).\nConsulte notre page Facebook ou Instagram pour savoir quels anims seront présents ce soir !
URL:https://mdjneuville.com/activite/soiree-libre-49/2027-01-13/
LOCATION:Maison des Jeunes de Neuville
CATEGORIES:Soirées libres
ATTACH;FMTTYPE=image/png:https://mdjneuville.com/wp-content/uploads/2025/10/Soiree-Libre.png
END:VEVENT
BEGIN:VEVENT
DTSTART;TZID=America/Toronto:20270114T170000
DTEND;TZID=America/Toronto:20270114T220000
DTSTAMP:20260420T235259
CREATED:20260218T213033Z
LAST-MODIFIED:20260324T012903Z
UID:10000712-1799946000-1799964000@mdjneuville.com
SUMMARY:Soirée libre
DESCRIPTION:Soirée libre à la MDJ pour les ados (12-17 ans).\nConsulte notre page Facebook ou Instagram pour savoir quels anims seront présents ce soir !
URL:https://mdjneuville.com/activite/soiree-libre-49/2027-01-14/
LOCATION:Maison des Jeunes de Neuville
CATEGORIES:Soirées libres
ATTACH;FMTTYPE=image/png:https://mdjneuville.com/wp-content/uploads/2025/10/Soiree-Libre.png
END:VEVENT
BEGIN:VEVENT
DTSTART;TZID=America/Toronto:20270115T150000
DTEND;TZID=America/Toronto:20270115T180000
DTSTAMP:20260420T235259
CREATED:20260303T205657Z
LAST-MODIFIED:20260324T013053Z
UID:10001968-1800025200-1800036000@mdjneuville.com
SUMMARY:Projet relève
DESCRIPTION:Période d’ouverture pour les jeunes de 5ième et 6ième année de l’école Courval.
URL:https://mdjneuville.com/activite/projet-releve-21/2027-01-15/
LOCATION:Maison des Jeunes de Neuville
CATEGORIES:Relèves
ATTACH;FMTTYPE=image/png:https://mdjneuville.com/wp-content/uploads/2025/10/IMAGE-PROJET-RELEVE.png
END:VEVENT
BEGIN:VEVENT
DTSTART;TZID=America/Toronto:20270115T180000
DTEND;TZID=America/Toronto:20270115T230000
DTSTAMP:20260420T235259
CREATED:20260303T215156Z
LAST-MODIFIED:20260323T231137Z
UID:10002500-1800036000-1800054000@mdjneuville.com
SUMMARY:Soirée libre
DESCRIPTION:Soirée libre à la MDJ pour les ados (12-17 ans).\nConsulte notre page Facebook ou Instagram pour savoir quels anims seront présents ce soir !
URL:https://mdjneuville.com/activite/soiree-libre-52/2027-01-15/
LOCATION:Maison des Jeunes de Neuville
CATEGORIES:Soirées libres
ATTACH;FMTTYPE=image/png:https://mdjneuville.com/wp-content/uploads/2025/10/Soiree-Libre.png
END:VEVENT
BEGIN:VEVENT
DTSTART;TZID=America/Toronto:20270116T170000
DTEND;TZID=America/Toronto:20270116T230000
DTSTAMP:20260420T235259
CREATED:20260218T214023Z
LAST-MODIFIED:20260324T013642Z
UID:10001704-1800118800-1800140400@mdjneuville.com
SUMMARY:Soirée libre
DESCRIPTION:Soirée libre à la MDJ pour les ados (12-17 ans).\nConsulte notre page Facebook ou Instagram pour savoir quels anims seront présents ce soir !
URL:https://mdjneuville.com/activite/soiree-libre-51/2027-01-16/
LOCATION:Maison des Jeunes de Neuville
CATEGORIES:Soirées libres
ATTACH;FMTTYPE=image/png:https://mdjneuville.com/wp-content/uploads/2025/10/Soiree-Libre.png
END:VEVENT
BEGIN:VEVENT
DTSTART;TZID=America/Toronto:20270120T170000
DTEND;TZID=America/Toronto:20270120T220000
DTSTAMP:20260420T235259
CREATED:20260218T213033Z
LAST-MODIFIED:20260324T012903Z
UID:10000713-1800464400-1800482400@mdjneuville.com
SUMMARY:Soirée libre
DESCRIPTION:Soirée libre à la MDJ pour les ados (12-17 ans).\nConsulte notre page Facebook ou Instagram pour savoir quels anims seront présents ce soir !
URL:https://mdjneuville.com/activite/soiree-libre-49/2027-01-20/
LOCATION:Maison des Jeunes de Neuville
CATEGORIES:Soirées libres
ATTACH;FMTTYPE=image/png:https://mdjneuville.com/wp-content/uploads/2025/10/Soiree-Libre.png
END:VEVENT
BEGIN:VEVENT
DTSTART;TZID=America/Toronto:20270121T170000
DTEND;TZID=America/Toronto:20270121T220000
DTSTAMP:20260420T235259
CREATED:20260218T213033Z
LAST-MODIFIED:20260324T012903Z
UID:10000714-1800550800-1800568800@mdjneuville.com
SUMMARY:Soirée libre
DESCRIPTION:Soirée libre à la MDJ pour les ados (12-17 ans).\nConsulte notre page Facebook ou Instagram pour savoir quels anims seront présents ce soir !
URL:https://mdjneuville.com/activite/soiree-libre-49/2027-01-21/
LOCATION:Maison des Jeunes de Neuville
CATEGORIES:Soirées libres
ATTACH;FMTTYPE=image/png:https://mdjneuville.com/wp-content/uploads/2025/10/Soiree-Libre.png
END:VEVENT
BEGIN:VEVENT
DTSTART;TZID=America/Toronto:20270122T150000
DTEND;TZID=America/Toronto:20270122T180000
DTSTAMP:20260420T235259
CREATED:20260303T205657Z
LAST-MODIFIED:20260324T013053Z
UID:10001969-1800630000-1800640800@mdjneuville.com
SUMMARY:Projet relève
DESCRIPTION:Période d’ouverture pour les jeunes de 5ième et 6ième année de l’école Courval.
URL:https://mdjneuville.com/activite/projet-releve-21/2027-01-22/
LOCATION:Maison des Jeunes de Neuville
CATEGORIES:Relèves
ATTACH;FMTTYPE=image/png:https://mdjneuville.com/wp-content/uploads/2025/10/IMAGE-PROJET-RELEVE.png
END:VEVENT
BEGIN:VEVENT
DTSTART;TZID=America/Toronto:20270122T180000
DTEND;TZID=America/Toronto:20270122T230000
DTSTAMP:20260420T235259
CREATED:20260303T215156Z
LAST-MODIFIED:20260323T231137Z
UID:10002501-1800640800-1800658800@mdjneuville.com
SUMMARY:Soirée libre
DESCRIPTION:Soirée libre à la MDJ pour les ados (12-17 ans).\nConsulte notre page Facebook ou Instagram pour savoir quels anims seront présents ce soir !
URL:https://mdjneuville.com/activite/soiree-libre-52/2027-01-22/
LOCATION:Maison des Jeunes de Neuville
CATEGORIES:Soirées libres
ATTACH;FMTTYPE=image/png:https://mdjneuville.com/wp-content/uploads/2025/10/Soiree-Libre.png
END:VEVENT
BEGIN:VEVENT
DTSTART;TZID=America/Toronto:20270123T170000
DTEND;TZID=America/Toronto:20270123T230000
DTSTAMP:20260420T235259
CREATED:20260218T214023Z
LAST-MODIFIED:20260324T013642Z
UID:10001705-1800723600-1800745200@mdjneuville.com
SUMMARY:Soirée libre
DESCRIPTION:Soirée libre à la MDJ pour les ados (12-17 ans).\nConsulte notre page Facebook ou Instagram pour savoir quels anims seront présents ce soir !
URL:https://mdjneuville.com/activite/soiree-libre-51/2027-01-23/
LOCATION:Maison des Jeunes de Neuville
CATEGORIES:Soirées libres
ATTACH;FMTTYPE=image/png:https://mdjneuville.com/wp-content/uploads/2025/10/Soiree-Libre.png
END:VEVENT
BEGIN:VEVENT
DTSTART;TZID=America/Toronto:20270127T170000
DTEND;TZID=America/Toronto:20270127T220000
DTSTAMP:20260420T235259
CREATED:20260218T213033Z
LAST-MODIFIED:20260324T012903Z
UID:10000715-1801069200-1801087200@mdjneuville.com
SUMMARY:Soirée libre
DESCRIPTION:Soirée libre à la MDJ pour les ados (12-17 ans).\nConsulte notre page Facebook ou Instagram pour savoir quels anims seront présents ce soir !
URL:https://mdjneuville.com/activite/soiree-libre-49/2027-01-27/
LOCATION:Maison des Jeunes de Neuville
CATEGORIES:Soirées libres
ATTACH;FMTTYPE=image/png:https://mdjneuville.com/wp-content/uploads/2025/10/Soiree-Libre.png
END:VEVENT
BEGIN:VEVENT
DTSTART;TZID=America/Toronto:20270128T170000
DTEND;TZID=America/Toronto:20270128T220000
DTSTAMP:20260420T235259
CREATED:20260218T213033Z
LAST-MODIFIED:20260324T012903Z
UID:10000716-1801155600-1801173600@mdjneuville.com
SUMMARY:Soirée libre
DESCRIPTION:Soirée libre à la MDJ pour les ados (12-17 ans).\nConsulte notre page Facebook ou Instagram pour savoir quels anims seront présents ce soir !
URL:https://mdjneuville.com/activite/soiree-libre-49/2027-01-28/
LOCATION:Maison des Jeunes de Neuville
CATEGORIES:Soirées libres
ATTACH;FMTTYPE=image/png:https://mdjneuville.com/wp-content/uploads/2025/10/Soiree-Libre.png
END:VEVENT
BEGIN:VEVENT
DTSTART;TZID=America/Toronto:20270129T150000
DTEND;TZID=America/Toronto:20270129T180000
DTSTAMP:20260420T235259
CREATED:20260303T205657Z
LAST-MODIFIED:20260324T013053Z
UID:10001970-1801234800-1801245600@mdjneuville.com
SUMMARY:Projet relève
DESCRIPTION:Période d’ouverture pour les jeunes de 5ième et 6ième année de l’école Courval.
URL:https://mdjneuville.com/activite/projet-releve-21/2027-01-29/
LOCATION:Maison des Jeunes de Neuville
CATEGORIES:Relèves
ATTACH;FMTTYPE=image/png:https://mdjneuville.com/wp-content/uploads/2025/10/IMAGE-PROJET-RELEVE.png
END:VEVENT
BEGIN:VEVENT
DTSTART;TZID=America/Toronto:20270129T180000
DTEND;TZID=America/Toronto:20270129T230000
DTSTAMP:20260420T235259
CREATED:20260303T215156Z
LAST-MODIFIED:20260323T231137Z
UID:10002502-1801245600-1801263600@mdjneuville.com
SUMMARY:Soirée libre
DESCRIPTION:Soirée libre à la MDJ pour les ados (12-17 ans).\nConsulte notre page Facebook ou Instagram pour savoir quels anims seront présents ce soir !
URL:https://mdjneuville.com/activite/soiree-libre-52/2027-01-29/
LOCATION:Maison des Jeunes de Neuville
CATEGORIES:Soirées libres
ATTACH;FMTTYPE=image/png:https://mdjneuville.com/wp-content/uploads/2025/10/Soiree-Libre.png
END:VEVENT
BEGIN:VEVENT
DTSTART;TZID=America/Toronto:20270130T170000
DTEND;TZID=America/Toronto:20270130T230000
DTSTAMP:20260420T235259
CREATED:20260218T214023Z
LAST-MODIFIED:20260324T013642Z
UID:10001706-1801328400-1801350000@mdjneuville.com
SUMMARY:Soirée libre
DESCRIPTION:Soirée libre à la MDJ pour les ados (12-17 ans).\nConsulte notre page Facebook ou Instagram pour savoir quels anims seront présents ce soir !
URL:https://mdjneuville.com/activite/soiree-libre-51/2027-01-30/
LOCATION:Maison des Jeunes de Neuville
CATEGORIES:Soirées libres
ATTACH;FMTTYPE=image/png:https://mdjneuville.com/wp-content/uploads/2025/10/Soiree-Libre.png
END:VEVENT
BEGIN:VEVENT
DTSTART;TZID=America/Toronto:20270203T170000
DTEND;TZID=America/Toronto:20270203T220000
DTSTAMP:20260420T235259
CREATED:20260218T213033Z
LAST-MODIFIED:20260324T012903Z
UID:10000717-1801674000-1801692000@mdjneuville.com
SUMMARY:Soirée libre
DESCRIPTION:Soirée libre à la MDJ pour les ados (12-17 ans).\nConsulte notre page Facebook ou Instagram pour savoir quels anims seront présents ce soir !
URL:https://mdjneuville.com/activite/soiree-libre-49/2027-02-03/
LOCATION:Maison des Jeunes de Neuville
CATEGORIES:Soirées libres
ATTACH;FMTTYPE=image/png:https://mdjneuville.com/wp-content/uploads/2025/10/Soiree-Libre.png
END:VEVENT
BEGIN:VEVENT
DTSTART;TZID=America/Toronto:20270204T170000
DTEND;TZID=America/Toronto:20270204T220000
DTSTAMP:20260420T235259
CREATED:20260218T213033Z
LAST-MODIFIED:20260324T012903Z
UID:10000718-1801760400-1801778400@mdjneuville.com
SUMMARY:Soirée libre
DESCRIPTION:Soirée libre à la MDJ pour les ados (12-17 ans).\nConsulte notre page Facebook ou Instagram pour savoir quels anims seront présents ce soir !
URL:https://mdjneuville.com/activite/soiree-libre-49/2027-02-04/
LOCATION:Maison des Jeunes de Neuville
CATEGORIES:Soirées libres
ATTACH;FMTTYPE=image/png:https://mdjneuville.com/wp-content/uploads/2025/10/Soiree-Libre.png
END:VEVENT
BEGIN:VEVENT
DTSTART;TZID=America/Toronto:20270205T150000
DTEND;TZID=America/Toronto:20270205T180000
DTSTAMP:20260420T235259
CREATED:20260303T205657Z
LAST-MODIFIED:20260324T013053Z
UID:10001971-1801839600-1801850400@mdjneuville.com
SUMMARY:Projet relève
DESCRIPTION:Période d’ouverture pour les jeunes de 5ième et 6ième année de l’école Courval.
URL:https://mdjneuville.com/activite/projet-releve-21/2027-02-05/
LOCATION:Maison des Jeunes de Neuville
CATEGORIES:Relèves
ATTACH;FMTTYPE=image/png:https://mdjneuville.com/wp-content/uploads/2025/10/IMAGE-PROJET-RELEVE.png
END:VEVENT
BEGIN:VEVENT
DTSTART;TZID=America/Toronto:20270205T180000
DTEND;TZID=America/Toronto:20270205T230000
DTSTAMP:20260420T235259
CREATED:20260303T215156Z
LAST-MODIFIED:20260323T231137Z
UID:10002503-1801850400-1801868400@mdjneuville.com
SUMMARY:Soirée libre
DESCRIPTION:Soirée libre à la MDJ pour les ados (12-17 ans).\nConsulte notre page Facebook ou Instagram pour savoir quels anims seront présents ce soir !
URL:https://mdjneuville.com/activite/soiree-libre-52/2027-02-05/
LOCATION:Maison des Jeunes de Neuville
CATEGORIES:Soirées libres
ATTACH;FMTTYPE=image/png:https://mdjneuville.com/wp-content/uploads/2025/10/Soiree-Libre.png
END:VEVENT
END:VCALENDAR