BEGIN:VCALENDAR
VERSION:2.0
PRODID:-//Maison des jeunes BGC de Neuville - ECPv6.15.20//NONSGML v1.0//EN
CALSCALE:GREGORIAN
METHOD:PUBLISH
X-WR-CALNAME:Maison des jeunes BGC de Neuville
X-ORIGINAL-URL:https://mdjneuville.com
X-WR-CALDESC:Événements pour Maison des jeunes BGC de Neuville
REFRESH-INTERVAL;VALUE=DURATION:PT1H
X-Robots-Tag:noindex
X-PUBLISHED-TTL:PT1H
BEGIN:VTIMEZONE
TZID:America/Toronto
BEGIN:DAYLIGHT
TZOFFSETFROM:-0500
TZOFFSETTO:-0400
TZNAME:EDT
DTSTART:20270314T070000
END:DAYLIGHT
BEGIN:STANDARD
TZOFFSETFROM:-0400
TZOFFSETTO:-0500
TZNAME:EST
DTSTART:20271107T060000
END:STANDARD
BEGIN:DAYLIGHT
TZOFFSETFROM:-0500
TZOFFSETTO:-0400
TZNAME:EDT
DTSTART:20280312T070000
END:DAYLIGHT
BEGIN:STANDARD
TZOFFSETFROM:-0400
TZOFFSETTO:-0500
TZNAME:EST
DTSTART:20281105T060000
END:STANDARD
BEGIN:DAYLIGHT
TZOFFSETFROM:-0500
TZOFFSETTO:-0400
TZNAME:EDT
DTSTART:20290311T070000
END:DAYLIGHT
BEGIN:STANDARD
TZOFFSETFROM:-0400
TZOFFSETTO:-0500
TZNAME:EST
DTSTART:20291104T060000
END:STANDARD
END:VTIMEZONE
BEGIN:VEVENT
DTSTART;TZID=America/Toronto:20280219T170000
DTEND;TZID=America/Toronto:20280219T230000
DTSTAMP:20260422T191646
CREATED:20260218T214023Z
LAST-MODIFIED:20260324T013642Z
UID:10001761-1834592400-1834614000@mdjneuville.com
SUMMARY:Soirée libre
DESCRIPTION:Soirée libre à la MDJ pour les ados (12-17 ans).\nConsulte notre page Facebook ou Instagram pour savoir quels anims seront présents ce soir !
URL:https://mdjneuville.com/activite/soiree-libre-51/2028-02-19/
LOCATION:Maison des Jeunes de Neuville
CATEGORIES:Soirées libres
ATTACH;FMTTYPE=image/png:https://mdjneuville.com/wp-content/uploads/2025/10/Soiree-Libre.png
END:VEVENT
BEGIN:VEVENT
DTSTART;TZID=America/Toronto:20280223T170000
DTEND;TZID=America/Toronto:20280223T220000
DTSTAMP:20260422T191646
CREATED:20260218T213033Z
LAST-MODIFIED:20260324T012903Z
UID:10000827-1834938000-1834956000@mdjneuville.com
SUMMARY:Soirée libre
DESCRIPTION:Soirée libre à la MDJ pour les ados (12-17 ans).\nConsulte notre page Facebook ou Instagram pour savoir quels anims seront présents ce soir !
URL:https://mdjneuville.com/activite/soiree-libre-49/2028-02-23/
LOCATION:Maison des Jeunes de Neuville
CATEGORIES:Soirées libres
ATTACH;FMTTYPE=image/png:https://mdjneuville.com/wp-content/uploads/2025/10/Soiree-Libre.png
END:VEVENT
BEGIN:VEVENT
DTSTART;TZID=America/Toronto:20280224T170000
DTEND;TZID=America/Toronto:20280224T220000
DTSTAMP:20260422T191646
CREATED:20260218T213033Z
LAST-MODIFIED:20260324T012903Z
UID:10000828-1835024400-1835042400@mdjneuville.com
SUMMARY:Soirée libre
DESCRIPTION:Soirée libre à la MDJ pour les ados (12-17 ans).\nConsulte notre page Facebook ou Instagram pour savoir quels anims seront présents ce soir !
URL:https://mdjneuville.com/activite/soiree-libre-49/2028-02-24/
LOCATION:Maison des Jeunes de Neuville
CATEGORIES:Soirées libres
ATTACH;FMTTYPE=image/png:https://mdjneuville.com/wp-content/uploads/2025/10/Soiree-Libre.png
END:VEVENT
BEGIN:VEVENT
DTSTART;TZID=America/Toronto:20280225T150000
DTEND;TZID=America/Toronto:20280225T180000
DTSTAMP:20260422T191646
CREATED:20260303T205657Z
LAST-MODIFIED:20260324T013053Z
UID:10002026-1835103600-1835114400@mdjneuville.com
SUMMARY:Projet relève
DESCRIPTION:Période d’ouverture pour les jeunes de 5ième et 6ième année de l’école Courval.
URL:https://mdjneuville.com/activite/projet-releve-21/2028-02-25/
LOCATION:Maison des Jeunes de Neuville
CATEGORIES:Relèves
ATTACH;FMTTYPE=image/png:https://mdjneuville.com/wp-content/uploads/2025/10/IMAGE-PROJET-RELEVE.png
END:VEVENT
BEGIN:VEVENT
DTSTART;TZID=America/Toronto:20280225T180000
DTEND;TZID=America/Toronto:20280225T230000
DTSTAMP:20260422T191646
CREATED:20260303T215156Z
LAST-MODIFIED:20260323T231137Z
UID:10002558-1835114400-1835132400@mdjneuville.com
SUMMARY:Soirée libre
DESCRIPTION:Soirée libre à la MDJ pour les ados (12-17 ans).\nConsulte notre page Facebook ou Instagram pour savoir quels anims seront présents ce soir !
URL:https://mdjneuville.com/activite/soiree-libre-52/2028-02-25/
LOCATION:Maison des Jeunes de Neuville
CATEGORIES:Soirées libres
ATTACH;FMTTYPE=image/png:https://mdjneuville.com/wp-content/uploads/2025/10/Soiree-Libre.png
END:VEVENT
BEGIN:VEVENT
DTSTART;TZID=America/Toronto:20280226T170000
DTEND;TZID=America/Toronto:20280226T230000
DTSTAMP:20260422T191646
CREATED:20260218T214023Z
LAST-MODIFIED:20260324T013642Z
UID:10001762-1835197200-1835218800@mdjneuville.com
SUMMARY:Soirée libre
DESCRIPTION:Soirée libre à la MDJ pour les ados (12-17 ans).\nConsulte notre page Facebook ou Instagram pour savoir quels anims seront présents ce soir !
URL:https://mdjneuville.com/activite/soiree-libre-51/2028-02-26/
LOCATION:Maison des Jeunes de Neuville
CATEGORIES:Soirées libres
ATTACH;FMTTYPE=image/png:https://mdjneuville.com/wp-content/uploads/2025/10/Soiree-Libre.png
END:VEVENT
BEGIN:VEVENT
DTSTART;TZID=America/Toronto:20280301T170000
DTEND;TZID=America/Toronto:20280301T220000
DTSTAMP:20260422T191646
CREATED:20260218T213033Z
LAST-MODIFIED:20260324T012903Z
UID:10000829-1835542800-1835560800@mdjneuville.com
SUMMARY:Soirée libre
DESCRIPTION:Soirée libre à la MDJ pour les ados (12-17 ans).\nConsulte notre page Facebook ou Instagram pour savoir quels anims seront présents ce soir !
URL:https://mdjneuville.com/activite/soiree-libre-49/2028-03-01/
LOCATION:Maison des Jeunes de Neuville
CATEGORIES:Soirées libres
ATTACH;FMTTYPE=image/png:https://mdjneuville.com/wp-content/uploads/2025/10/Soiree-Libre.png
END:VEVENT
BEGIN:VEVENT
DTSTART;TZID=America/Toronto:20280302T170000
DTEND;TZID=America/Toronto:20280302T220000
DTSTAMP:20260422T191646
CREATED:20260218T213033Z
LAST-MODIFIED:20260324T012903Z
UID:10000830-1835629200-1835647200@mdjneuville.com
SUMMARY:Soirée libre
DESCRIPTION:Soirée libre à la MDJ pour les ados (12-17 ans).\nConsulte notre page Facebook ou Instagram pour savoir quels anims seront présents ce soir !
URL:https://mdjneuville.com/activite/soiree-libre-49/2028-03-02/
LOCATION:Maison des Jeunes de Neuville
CATEGORIES:Soirées libres
ATTACH;FMTTYPE=image/png:https://mdjneuville.com/wp-content/uploads/2025/10/Soiree-Libre.png
END:VEVENT
BEGIN:VEVENT
DTSTART;TZID=America/Toronto:20280303T150000
DTEND;TZID=America/Toronto:20280303T180000
DTSTAMP:20260422T191646
CREATED:20260303T205657Z
LAST-MODIFIED:20260324T013053Z
UID:10002027-1835708400-1835719200@mdjneuville.com
SUMMARY:Projet relève
DESCRIPTION:Période d’ouverture pour les jeunes de 5ième et 6ième année de l’école Courval.
URL:https://mdjneuville.com/activite/projet-releve-21/2028-03-03/
LOCATION:Maison des Jeunes de Neuville
CATEGORIES:Relèves
ATTACH;FMTTYPE=image/png:https://mdjneuville.com/wp-content/uploads/2025/10/IMAGE-PROJET-RELEVE.png
END:VEVENT
BEGIN:VEVENT
DTSTART;TZID=America/Toronto:20280303T180000
DTEND;TZID=America/Toronto:20280303T230000
DTSTAMP:20260422T191646
CREATED:20260303T215156Z
LAST-MODIFIED:20260323T231137Z
UID:10002559-1835719200-1835737200@mdjneuville.com
SUMMARY:Soirée libre
DESCRIPTION:Soirée libre à la MDJ pour les ados (12-17 ans).\nConsulte notre page Facebook ou Instagram pour savoir quels anims seront présents ce soir !
URL:https://mdjneuville.com/activite/soiree-libre-52/2028-03-03/
LOCATION:Maison des Jeunes de Neuville
CATEGORIES:Soirées libres
ATTACH;FMTTYPE=image/png:https://mdjneuville.com/wp-content/uploads/2025/10/Soiree-Libre.png
END:VEVENT
BEGIN:VEVENT
DTSTART;TZID=America/Toronto:20280304T170000
DTEND;TZID=America/Toronto:20280304T230000
DTSTAMP:20260422T191646
CREATED:20260218T214023Z
LAST-MODIFIED:20260324T013642Z
UID:10001763-1835802000-1835823600@mdjneuville.com
SUMMARY:Soirée libre
DESCRIPTION:Soirée libre à la MDJ pour les ados (12-17 ans).\nConsulte notre page Facebook ou Instagram pour savoir quels anims seront présents ce soir !
URL:https://mdjneuville.com/activite/soiree-libre-51/2028-03-04/
LOCATION:Maison des Jeunes de Neuville
CATEGORIES:Soirées libres
ATTACH;FMTTYPE=image/png:https://mdjneuville.com/wp-content/uploads/2025/10/Soiree-Libre.png
END:VEVENT
BEGIN:VEVENT
DTSTART;TZID=America/Toronto:20280308T170000
DTEND;TZID=America/Toronto:20280308T220000
DTSTAMP:20260422T191646
CREATED:20260218T213033Z
LAST-MODIFIED:20260324T012903Z
UID:10000831-1836147600-1836165600@mdjneuville.com
SUMMARY:Soirée libre
DESCRIPTION:Soirée libre à la MDJ pour les ados (12-17 ans).\nConsulte notre page Facebook ou Instagram pour savoir quels anims seront présents ce soir !
URL:https://mdjneuville.com/activite/soiree-libre-49/2028-03-08/
LOCATION:Maison des Jeunes de Neuville
CATEGORIES:Soirées libres
ATTACH;FMTTYPE=image/png:https://mdjneuville.com/wp-content/uploads/2025/10/Soiree-Libre.png
END:VEVENT
BEGIN:VEVENT
DTSTART;TZID=America/Toronto:20280309T170000
DTEND;TZID=America/Toronto:20280309T220000
DTSTAMP:20260422T191646
CREATED:20260218T213033Z
LAST-MODIFIED:20260324T012903Z
UID:10000832-1836234000-1836252000@mdjneuville.com
SUMMARY:Soirée libre
DESCRIPTION:Soirée libre à la MDJ pour les ados (12-17 ans).\nConsulte notre page Facebook ou Instagram pour savoir quels anims seront présents ce soir !
URL:https://mdjneuville.com/activite/soiree-libre-49/2028-03-09/
LOCATION:Maison des Jeunes de Neuville
CATEGORIES:Soirées libres
ATTACH;FMTTYPE=image/png:https://mdjneuville.com/wp-content/uploads/2025/10/Soiree-Libre.png
END:VEVENT
BEGIN:VEVENT
DTSTART;TZID=America/Toronto:20280310T150000
DTEND;TZID=America/Toronto:20280310T180000
DTSTAMP:20260422T191646
CREATED:20260303T205657Z
LAST-MODIFIED:20260324T013053Z
UID:10002028-1836313200-1836324000@mdjneuville.com
SUMMARY:Projet relève
DESCRIPTION:Période d’ouverture pour les jeunes de 5ième et 6ième année de l’école Courval.
URL:https://mdjneuville.com/activite/projet-releve-21/2028-03-10/
LOCATION:Maison des Jeunes de Neuville
CATEGORIES:Relèves
ATTACH;FMTTYPE=image/png:https://mdjneuville.com/wp-content/uploads/2025/10/IMAGE-PROJET-RELEVE.png
END:VEVENT
BEGIN:VEVENT
DTSTART;TZID=America/Toronto:20280310T180000
DTEND;TZID=America/Toronto:20280310T230000
DTSTAMP:20260422T191646
CREATED:20260303T215156Z
LAST-MODIFIED:20260323T231137Z
UID:10002560-1836324000-1836342000@mdjneuville.com
SUMMARY:Soirée libre
DESCRIPTION:Soirée libre à la MDJ pour les ados (12-17 ans).\nConsulte notre page Facebook ou Instagram pour savoir quels anims seront présents ce soir !
URL:https://mdjneuville.com/activite/soiree-libre-52/2028-03-10/
LOCATION:Maison des Jeunes de Neuville
CATEGORIES:Soirées libres
ATTACH;FMTTYPE=image/png:https://mdjneuville.com/wp-content/uploads/2025/10/Soiree-Libre.png
END:VEVENT
BEGIN:VEVENT
DTSTART;TZID=America/Toronto:20280311T170000
DTEND;TZID=America/Toronto:20280311T230000
DTSTAMP:20260422T191646
CREATED:20260218T214023Z
LAST-MODIFIED:20260324T013642Z
UID:10001764-1836406800-1836428400@mdjneuville.com
SUMMARY:Soirée libre
DESCRIPTION:Soirée libre à la MDJ pour les ados (12-17 ans).\nConsulte notre page Facebook ou Instagram pour savoir quels anims seront présents ce soir !
URL:https://mdjneuville.com/activite/soiree-libre-51/2028-03-11/
LOCATION:Maison des Jeunes de Neuville
CATEGORIES:Soirées libres
ATTACH;FMTTYPE=image/png:https://mdjneuville.com/wp-content/uploads/2025/10/Soiree-Libre.png
END:VEVENT
BEGIN:VEVENT
DTSTART;TZID=America/Toronto:20280315T170000
DTEND;TZID=America/Toronto:20280315T220000
DTSTAMP:20260422T191646
CREATED:20260218T213033Z
LAST-MODIFIED:20260324T012903Z
UID:10000833-1836752400-1836770400@mdjneuville.com
SUMMARY:Soirée libre
DESCRIPTION:Soirée libre à la MDJ pour les ados (12-17 ans).\nConsulte notre page Facebook ou Instagram pour savoir quels anims seront présents ce soir !
URL:https://mdjneuville.com/activite/soiree-libre-49/2028-03-15/
LOCATION:Maison des Jeunes de Neuville
CATEGORIES:Soirées libres
ATTACH;FMTTYPE=image/png:https://mdjneuville.com/wp-content/uploads/2025/10/Soiree-Libre.png
END:VEVENT
BEGIN:VEVENT
DTSTART;TZID=America/Toronto:20280316T170000
DTEND;TZID=America/Toronto:20280316T220000
DTSTAMP:20260422T191646
CREATED:20260218T213033Z
LAST-MODIFIED:20260324T012903Z
UID:10000834-1836838800-1836856800@mdjneuville.com
SUMMARY:Soirée libre
DESCRIPTION:Soirée libre à la MDJ pour les ados (12-17 ans).\nConsulte notre page Facebook ou Instagram pour savoir quels anims seront présents ce soir !
URL:https://mdjneuville.com/activite/soiree-libre-49/2028-03-16/
LOCATION:Maison des Jeunes de Neuville
CATEGORIES:Soirées libres
ATTACH;FMTTYPE=image/png:https://mdjneuville.com/wp-content/uploads/2025/10/Soiree-Libre.png
END:VEVENT
BEGIN:VEVENT
DTSTART;TZID=America/Toronto:20280317T150000
DTEND;TZID=America/Toronto:20280317T180000
DTSTAMP:20260422T191646
CREATED:20260303T205657Z
LAST-MODIFIED:20260324T013053Z
UID:10002029-1836918000-1836928800@mdjneuville.com
SUMMARY:Projet relève
DESCRIPTION:Période d’ouverture pour les jeunes de 5ième et 6ième année de l’école Courval.
URL:https://mdjneuville.com/activite/projet-releve-21/2028-03-17/
LOCATION:Maison des Jeunes de Neuville
CATEGORIES:Relèves
ATTACH;FMTTYPE=image/png:https://mdjneuville.com/wp-content/uploads/2025/10/IMAGE-PROJET-RELEVE.png
END:VEVENT
BEGIN:VEVENT
DTSTART;TZID=America/Toronto:20280317T180000
DTEND;TZID=America/Toronto:20280317T230000
DTSTAMP:20260422T191646
CREATED:20260303T215156Z
LAST-MODIFIED:20260323T231137Z
UID:10002561-1836928800-1836946800@mdjneuville.com
SUMMARY:Soirée libre
DESCRIPTION:Soirée libre à la MDJ pour les ados (12-17 ans).\nConsulte notre page Facebook ou Instagram pour savoir quels anims seront présents ce soir !
URL:https://mdjneuville.com/activite/soiree-libre-52/2028-03-17/
LOCATION:Maison des Jeunes de Neuville
CATEGORIES:Soirées libres
ATTACH;FMTTYPE=image/png:https://mdjneuville.com/wp-content/uploads/2025/10/Soiree-Libre.png
END:VEVENT
BEGIN:VEVENT
DTSTART;TZID=America/Toronto:20280318T170000
DTEND;TZID=America/Toronto:20280318T230000
DTSTAMP:20260422T191646
CREATED:20260218T214023Z
LAST-MODIFIED:20260324T013642Z
UID:10001765-1837011600-1837033200@mdjneuville.com
SUMMARY:Soirée libre
DESCRIPTION:Soirée libre à la MDJ pour les ados (12-17 ans).\nConsulte notre page Facebook ou Instagram pour savoir quels anims seront présents ce soir !
URL:https://mdjneuville.com/activite/soiree-libre-51/2028-03-18/
LOCATION:Maison des Jeunes de Neuville
CATEGORIES:Soirées libres
ATTACH;FMTTYPE=image/png:https://mdjneuville.com/wp-content/uploads/2025/10/Soiree-Libre.png
END:VEVENT
BEGIN:VEVENT
DTSTART;TZID=America/Toronto:20280322T170000
DTEND;TZID=America/Toronto:20280322T220000
DTSTAMP:20260422T191646
CREATED:20260218T213033Z
LAST-MODIFIED:20260324T012903Z
UID:10000835-1837357200-1837375200@mdjneuville.com
SUMMARY:Soirée libre
DESCRIPTION:Soirée libre à la MDJ pour les ados (12-17 ans).\nConsulte notre page Facebook ou Instagram pour savoir quels anims seront présents ce soir !
URL:https://mdjneuville.com/activite/soiree-libre-49/2028-03-22/
LOCATION:Maison des Jeunes de Neuville
CATEGORIES:Soirées libres
ATTACH;FMTTYPE=image/png:https://mdjneuville.com/wp-content/uploads/2025/10/Soiree-Libre.png
END:VEVENT
BEGIN:VEVENT
DTSTART;TZID=America/Toronto:20280323T170000
DTEND;TZID=America/Toronto:20280323T220000
DTSTAMP:20260422T191646
CREATED:20260218T213033Z
LAST-MODIFIED:20260324T012903Z
UID:10000836-1837443600-1837461600@mdjneuville.com
SUMMARY:Soirée libre
DESCRIPTION:Soirée libre à la MDJ pour les ados (12-17 ans).\nConsulte notre page Facebook ou Instagram pour savoir quels anims seront présents ce soir !
URL:https://mdjneuville.com/activite/soiree-libre-49/2028-03-23/
LOCATION:Maison des Jeunes de Neuville
CATEGORIES:Soirées libres
ATTACH;FMTTYPE=image/png:https://mdjneuville.com/wp-content/uploads/2025/10/Soiree-Libre.png
END:VEVENT
BEGIN:VEVENT
DTSTART;TZID=America/Toronto:20280324T150000
DTEND;TZID=America/Toronto:20280324T180000
DTSTAMP:20260422T191646
CREATED:20260303T205657Z
LAST-MODIFIED:20260324T013053Z
UID:10002030-1837522800-1837533600@mdjneuville.com
SUMMARY:Projet relève
DESCRIPTION:Période d’ouverture pour les jeunes de 5ième et 6ième année de l’école Courval.
URL:https://mdjneuville.com/activite/projet-releve-21/2028-03-24/
LOCATION:Maison des Jeunes de Neuville
CATEGORIES:Relèves
ATTACH;FMTTYPE=image/png:https://mdjneuville.com/wp-content/uploads/2025/10/IMAGE-PROJET-RELEVE.png
END:VEVENT
BEGIN:VEVENT
DTSTART;TZID=America/Toronto:20280324T180000
DTEND;TZID=America/Toronto:20280324T230000
DTSTAMP:20260422T191646
CREATED:20260303T215156Z
LAST-MODIFIED:20260323T231137Z
UID:10002562-1837533600-1837551600@mdjneuville.com
SUMMARY:Soirée libre
DESCRIPTION:Soirée libre à la MDJ pour les ados (12-17 ans).\nConsulte notre page Facebook ou Instagram pour savoir quels anims seront présents ce soir !
URL:https://mdjneuville.com/activite/soiree-libre-52/2028-03-24/
LOCATION:Maison des Jeunes de Neuville
CATEGORIES:Soirées libres
ATTACH;FMTTYPE=image/png:https://mdjneuville.com/wp-content/uploads/2025/10/Soiree-Libre.png
END:VEVENT
BEGIN:VEVENT
DTSTART;TZID=America/Toronto:20280325T170000
DTEND;TZID=America/Toronto:20280325T230000
DTSTAMP:20260422T191646
CREATED:20260218T214023Z
LAST-MODIFIED:20260324T013642Z
UID:10001766-1837616400-1837638000@mdjneuville.com
SUMMARY:Soirée libre
DESCRIPTION:Soirée libre à la MDJ pour les ados (12-17 ans).\nConsulte notre page Facebook ou Instagram pour savoir quels anims seront présents ce soir !
URL:https://mdjneuville.com/activite/soiree-libre-51/2028-03-25/
LOCATION:Maison des Jeunes de Neuville
CATEGORIES:Soirées libres
ATTACH;FMTTYPE=image/png:https://mdjneuville.com/wp-content/uploads/2025/10/Soiree-Libre.png
END:VEVENT
BEGIN:VEVENT
DTSTART;TZID=America/Toronto:20280329T170000
DTEND;TZID=America/Toronto:20280329T220000
DTSTAMP:20260422T191646
CREATED:20260218T213033Z
LAST-MODIFIED:20260324T012903Z
UID:10000837-1837962000-1837980000@mdjneuville.com
SUMMARY:Soirée libre
DESCRIPTION:Soirée libre à la MDJ pour les ados (12-17 ans).\nConsulte notre page Facebook ou Instagram pour savoir quels anims seront présents ce soir !
URL:https://mdjneuville.com/activite/soiree-libre-49/2028-03-29/
LOCATION:Maison des Jeunes de Neuville
CATEGORIES:Soirées libres
ATTACH;FMTTYPE=image/png:https://mdjneuville.com/wp-content/uploads/2025/10/Soiree-Libre.png
END:VEVENT
BEGIN:VEVENT
DTSTART;TZID=America/Toronto:20280330T170000
DTEND;TZID=America/Toronto:20280330T220000
DTSTAMP:20260422T191646
CREATED:20260218T213033Z
LAST-MODIFIED:20260324T012903Z
UID:10000838-1838048400-1838066400@mdjneuville.com
SUMMARY:Soirée libre
DESCRIPTION:Soirée libre à la MDJ pour les ados (12-17 ans).\nConsulte notre page Facebook ou Instagram pour savoir quels anims seront présents ce soir !
URL:https://mdjneuville.com/activite/soiree-libre-49/2028-03-30/
LOCATION:Maison des Jeunes de Neuville
CATEGORIES:Soirées libres
ATTACH;FMTTYPE=image/png:https://mdjneuville.com/wp-content/uploads/2025/10/Soiree-Libre.png
END:VEVENT
BEGIN:VEVENT
DTSTART;TZID=America/Toronto:20280331T150000
DTEND;TZID=America/Toronto:20280331T180000
DTSTAMP:20260422T191646
CREATED:20260303T205657Z
LAST-MODIFIED:20260324T013053Z
UID:10002031-1838127600-1838138400@mdjneuville.com
SUMMARY:Projet relève
DESCRIPTION:Période d’ouverture pour les jeunes de 5ième et 6ième année de l’école Courval.
URL:https://mdjneuville.com/activite/projet-releve-21/2028-03-31/
LOCATION:Maison des Jeunes de Neuville
CATEGORIES:Relèves
ATTACH;FMTTYPE=image/png:https://mdjneuville.com/wp-content/uploads/2025/10/IMAGE-PROJET-RELEVE.png
END:VEVENT
BEGIN:VEVENT
DTSTART;TZID=America/Toronto:20280331T180000
DTEND;TZID=America/Toronto:20280331T230000
DTSTAMP:20260422T191646
CREATED:20260303T215156Z
LAST-MODIFIED:20260323T231137Z
UID:10002563-1838138400-1838156400@mdjneuville.com
SUMMARY:Soirée libre
DESCRIPTION:Soirée libre à la MDJ pour les ados (12-17 ans).\nConsulte notre page Facebook ou Instagram pour savoir quels anims seront présents ce soir !
URL:https://mdjneuville.com/activite/soiree-libre-52/2028-03-31/
LOCATION:Maison des Jeunes de Neuville
CATEGORIES:Soirées libres
ATTACH;FMTTYPE=image/png:https://mdjneuville.com/wp-content/uploads/2025/10/Soiree-Libre.png
END:VEVENT
END:VCALENDAR