BEGIN:VCALENDAR
VERSION:2.0
PRODID:-//Maison des jeunes BGC de Neuville - ECPv6.15.20//NONSGML v1.0//EN
CALSCALE:GREGORIAN
METHOD:PUBLISH
X-ORIGINAL-URL:https://mdjneuville.com
X-WR-CALDESC:Événements pour Maison des jeunes BGC de Neuville
REFRESH-INTERVAL;VALUE=DURATION:PT1H
X-Robots-Tag:noindex
X-PUBLISHED-TTL:PT1H
BEGIN:VTIMEZONE
TZID:America/Toronto
BEGIN:DAYLIGHT
TZOFFSETFROM:-0500
TZOFFSETTO:-0400
TZNAME:EDT
DTSTART:20270314T070000
END:DAYLIGHT
BEGIN:STANDARD
TZOFFSETFROM:-0400
TZOFFSETTO:-0500
TZNAME:EST
DTSTART:20271107T060000
END:STANDARD
BEGIN:DAYLIGHT
TZOFFSETFROM:-0500
TZOFFSETTO:-0400
TZNAME:EDT
DTSTART:20280312T070000
END:DAYLIGHT
BEGIN:STANDARD
TZOFFSETFROM:-0400
TZOFFSETTO:-0500
TZNAME:EST
DTSTART:20281105T060000
END:STANDARD
BEGIN:DAYLIGHT
TZOFFSETFROM:-0500
TZOFFSETTO:-0400
TZNAME:EDT
DTSTART:20290311T070000
END:DAYLIGHT
BEGIN:STANDARD
TZOFFSETFROM:-0400
TZOFFSETTO:-0500
TZNAME:EST
DTSTART:20291104T060000
END:STANDARD
END:VTIMEZONE
BEGIN:VEVENT
DTSTART;TZID=America/Toronto:20281118T170000
DTEND;TZID=America/Toronto:20281118T230000
DTSTAMP:20260424T002749
CREATED:20260218T214023Z
LAST-MODIFIED:20260324T013642Z
UID:10001800-1858179600-1858201200@mdjneuville.com
SUMMARY:Soirée libre
DESCRIPTION:Soirée libre à la MDJ pour les ados (12-17 ans).\nConsulte notre page Facebook ou Instagram pour savoir quels anims seront présents ce soir !
URL:https://mdjneuville.com/activite/soiree-libre-51/2028-11-18/
LOCATION:Maison des Jeunes de Neuville
CATEGORIES:Soirées libres
ATTACH;FMTTYPE=image/png:https://mdjneuville.com/wp-content/uploads/2025/10/Soiree-Libre.png
END:VEVENT
BEGIN:VEVENT
DTSTART;TZID=America/Toronto:20281122T170000
DTEND;TZID=America/Toronto:20281122T220000
DTSTAMP:20260424T002749
CREATED:20260218T213033Z
LAST-MODIFIED:20260324T012903Z
UID:10000905-1858525200-1858543200@mdjneuville.com
SUMMARY:Soirée libre
DESCRIPTION:Soirée libre à la MDJ pour les ados (12-17 ans).\nConsulte notre page Facebook ou Instagram pour savoir quels anims seront présents ce soir !
URL:https://mdjneuville.com/activite/soiree-libre-49/2028-11-22/
LOCATION:Maison des Jeunes de Neuville
CATEGORIES:Soirées libres
ATTACH;FMTTYPE=image/png:https://mdjneuville.com/wp-content/uploads/2025/10/Soiree-Libre.png
END:VEVENT
BEGIN:VEVENT
DTSTART;TZID=America/Toronto:20281123T170000
DTEND;TZID=America/Toronto:20281123T220000
DTSTAMP:20260424T002749
CREATED:20260218T213033Z
LAST-MODIFIED:20260324T012903Z
UID:10000906-1858611600-1858629600@mdjneuville.com
SUMMARY:Soirée libre
DESCRIPTION:Soirée libre à la MDJ pour les ados (12-17 ans).\nConsulte notre page Facebook ou Instagram pour savoir quels anims seront présents ce soir !
URL:https://mdjneuville.com/activite/soiree-libre-49/2028-11-23/
LOCATION:Maison des Jeunes de Neuville
CATEGORIES:Soirées libres
ATTACH;FMTTYPE=image/png:https://mdjneuville.com/wp-content/uploads/2025/10/Soiree-Libre.png
END:VEVENT
BEGIN:VEVENT
DTSTART;TZID=America/Toronto:20281124T150000
DTEND;TZID=America/Toronto:20281124T180000
DTSTAMP:20260424T002749
CREATED:20260303T205657Z
LAST-MODIFIED:20260324T013053Z
UID:10002065-1858690800-1858701600@mdjneuville.com
SUMMARY:Projet relève
DESCRIPTION:Période d’ouverture pour les jeunes de 5ième et 6ième année de l’école Courval.
URL:https://mdjneuville.com/activite/projet-releve-21/2028-11-24/
LOCATION:Maison des Jeunes de Neuville
CATEGORIES:Relèves
ATTACH;FMTTYPE=image/png:https://mdjneuville.com/wp-content/uploads/2025/10/IMAGE-PROJET-RELEVE.png
END:VEVENT
BEGIN:VEVENT
DTSTART;TZID=America/Toronto:20281124T180000
DTEND;TZID=America/Toronto:20281124T230000
DTSTAMP:20260424T002749
CREATED:20260303T215156Z
LAST-MODIFIED:20260323T231137Z
UID:10002597-1858701600-1858719600@mdjneuville.com
SUMMARY:Soirée libre
DESCRIPTION:Soirée libre à la MDJ pour les ados (12-17 ans).\nConsulte notre page Facebook ou Instagram pour savoir quels anims seront présents ce soir !
URL:https://mdjneuville.com/activite/soiree-libre-52/2028-11-24/
LOCATION:Maison des Jeunes de Neuville
CATEGORIES:Soirées libres
ATTACH;FMTTYPE=image/png:https://mdjneuville.com/wp-content/uploads/2025/10/Soiree-Libre.png
END:VEVENT
BEGIN:VEVENT
DTSTART;TZID=America/Toronto:20281125T170000
DTEND;TZID=America/Toronto:20281125T230000
DTSTAMP:20260424T002749
CREATED:20260218T214023Z
LAST-MODIFIED:20260324T013642Z
UID:10001801-1858784400-1858806000@mdjneuville.com
SUMMARY:Soirée libre
DESCRIPTION:Soirée libre à la MDJ pour les ados (12-17 ans).\nConsulte notre page Facebook ou Instagram pour savoir quels anims seront présents ce soir !
URL:https://mdjneuville.com/activite/soiree-libre-51/2028-11-25/
LOCATION:Maison des Jeunes de Neuville
CATEGORIES:Soirées libres
ATTACH;FMTTYPE=image/png:https://mdjneuville.com/wp-content/uploads/2025/10/Soiree-Libre.png
END:VEVENT
BEGIN:VEVENT
DTSTART;TZID=America/Toronto:20281129T170000
DTEND;TZID=America/Toronto:20281129T220000
DTSTAMP:20260424T002749
CREATED:20260218T213033Z
LAST-MODIFIED:20260324T012903Z
UID:10000907-1859130000-1859148000@mdjneuville.com
SUMMARY:Soirée libre
DESCRIPTION:Soirée libre à la MDJ pour les ados (12-17 ans).\nConsulte notre page Facebook ou Instagram pour savoir quels anims seront présents ce soir !
URL:https://mdjneuville.com/activite/soiree-libre-49/2028-11-29/
LOCATION:Maison des Jeunes de Neuville
CATEGORIES:Soirées libres
ATTACH;FMTTYPE=image/png:https://mdjneuville.com/wp-content/uploads/2025/10/Soiree-Libre.png
END:VEVENT
BEGIN:VEVENT
DTSTART;TZID=America/Toronto:20281130T170000
DTEND;TZID=America/Toronto:20281130T220000
DTSTAMP:20260424T002749
CREATED:20260218T213033Z
LAST-MODIFIED:20260324T012903Z
UID:10000908-1859216400-1859234400@mdjneuville.com
SUMMARY:Soirée libre
DESCRIPTION:Soirée libre à la MDJ pour les ados (12-17 ans).\nConsulte notre page Facebook ou Instagram pour savoir quels anims seront présents ce soir !
URL:https://mdjneuville.com/activite/soiree-libre-49/2028-11-30/
LOCATION:Maison des Jeunes de Neuville
CATEGORIES:Soirées libres
ATTACH;FMTTYPE=image/png:https://mdjneuville.com/wp-content/uploads/2025/10/Soiree-Libre.png
END:VEVENT
BEGIN:VEVENT
DTSTART;TZID=America/Toronto:20281201T150000
DTEND;TZID=America/Toronto:20281201T180000
DTSTAMP:20260424T002749
CREATED:20260303T205657Z
LAST-MODIFIED:20260324T013053Z
UID:10002066-1859295600-1859306400@mdjneuville.com
SUMMARY:Projet relève
DESCRIPTION:Période d’ouverture pour les jeunes de 5ième et 6ième année de l’école Courval.
URL:https://mdjneuville.com/activite/projet-releve-21/2028-12-01/
LOCATION:Maison des Jeunes de Neuville
CATEGORIES:Relèves
ATTACH;FMTTYPE=image/png:https://mdjneuville.com/wp-content/uploads/2025/10/IMAGE-PROJET-RELEVE.png
END:VEVENT
BEGIN:VEVENT
DTSTART;TZID=America/Toronto:20281201T180000
DTEND;TZID=America/Toronto:20281201T230000
DTSTAMP:20260424T002749
CREATED:20260303T215156Z
LAST-MODIFIED:20260323T231137Z
UID:10002598-1859306400-1859324400@mdjneuville.com
SUMMARY:Soirée libre
DESCRIPTION:Soirée libre à la MDJ pour les ados (12-17 ans).\nConsulte notre page Facebook ou Instagram pour savoir quels anims seront présents ce soir !
URL:https://mdjneuville.com/activite/soiree-libre-52/2028-12-01/
LOCATION:Maison des Jeunes de Neuville
CATEGORIES:Soirées libres
ATTACH;FMTTYPE=image/png:https://mdjneuville.com/wp-content/uploads/2025/10/Soiree-Libre.png
END:VEVENT
BEGIN:VEVENT
DTSTART;TZID=America/Toronto:20281202T170000
DTEND;TZID=America/Toronto:20281202T230000
DTSTAMP:20260424T002749
CREATED:20260218T214023Z
LAST-MODIFIED:20260324T013642Z
UID:10001802-1859389200-1859410800@mdjneuville.com
SUMMARY:Soirée libre
DESCRIPTION:Soirée libre à la MDJ pour les ados (12-17 ans).\nConsulte notre page Facebook ou Instagram pour savoir quels anims seront présents ce soir !
URL:https://mdjneuville.com/activite/soiree-libre-51/2028-12-02/
LOCATION:Maison des Jeunes de Neuville
CATEGORIES:Soirées libres
ATTACH;FMTTYPE=image/png:https://mdjneuville.com/wp-content/uploads/2025/10/Soiree-Libre.png
END:VEVENT
BEGIN:VEVENT
DTSTART;TZID=America/Toronto:20281206T170000
DTEND;TZID=America/Toronto:20281206T220000
DTSTAMP:20260424T002749
CREATED:20260218T213033Z
LAST-MODIFIED:20260324T012903Z
UID:10000909-1859734800-1859752800@mdjneuville.com
SUMMARY:Soirée libre
DESCRIPTION:Soirée libre à la MDJ pour les ados (12-17 ans).\nConsulte notre page Facebook ou Instagram pour savoir quels anims seront présents ce soir !
URL:https://mdjneuville.com/activite/soiree-libre-49/2028-12-06/
LOCATION:Maison des Jeunes de Neuville
CATEGORIES:Soirées libres
ATTACH;FMTTYPE=image/png:https://mdjneuville.com/wp-content/uploads/2025/10/Soiree-Libre.png
END:VEVENT
BEGIN:VEVENT
DTSTART;TZID=America/Toronto:20281207T170000
DTEND;TZID=America/Toronto:20281207T220000
DTSTAMP:20260424T002749
CREATED:20260218T213033Z
LAST-MODIFIED:20260324T012903Z
UID:10000910-1859821200-1859839200@mdjneuville.com
SUMMARY:Soirée libre
DESCRIPTION:Soirée libre à la MDJ pour les ados (12-17 ans).\nConsulte notre page Facebook ou Instagram pour savoir quels anims seront présents ce soir !
URL:https://mdjneuville.com/activite/soiree-libre-49/2028-12-07/
LOCATION:Maison des Jeunes de Neuville
CATEGORIES:Soirées libres
ATTACH;FMTTYPE=image/png:https://mdjneuville.com/wp-content/uploads/2025/10/Soiree-Libre.png
END:VEVENT
BEGIN:VEVENT
DTSTART;TZID=America/Toronto:20281208T150000
DTEND;TZID=America/Toronto:20281208T180000
DTSTAMP:20260424T002749
CREATED:20260303T205657Z
LAST-MODIFIED:20260324T013053Z
UID:10002067-1859900400-1859911200@mdjneuville.com
SUMMARY:Projet relève
DESCRIPTION:Période d’ouverture pour les jeunes de 5ième et 6ième année de l’école Courval.
URL:https://mdjneuville.com/activite/projet-releve-21/2028-12-08/
LOCATION:Maison des Jeunes de Neuville
CATEGORIES:Relèves
ATTACH;FMTTYPE=image/png:https://mdjneuville.com/wp-content/uploads/2025/10/IMAGE-PROJET-RELEVE.png
END:VEVENT
BEGIN:VEVENT
DTSTART;TZID=America/Toronto:20281208T180000
DTEND;TZID=America/Toronto:20281208T230000
DTSTAMP:20260424T002749
CREATED:20260303T215156Z
LAST-MODIFIED:20260323T231137Z
UID:10002599-1859911200-1859929200@mdjneuville.com
SUMMARY:Soirée libre
DESCRIPTION:Soirée libre à la MDJ pour les ados (12-17 ans).\nConsulte notre page Facebook ou Instagram pour savoir quels anims seront présents ce soir !
URL:https://mdjneuville.com/activite/soiree-libre-52/2028-12-08/
LOCATION:Maison des Jeunes de Neuville
CATEGORIES:Soirées libres
ATTACH;FMTTYPE=image/png:https://mdjneuville.com/wp-content/uploads/2025/10/Soiree-Libre.png
END:VEVENT
BEGIN:VEVENT
DTSTART;TZID=America/Toronto:20281209T170000
DTEND;TZID=America/Toronto:20281209T230000
DTSTAMP:20260424T002749
CREATED:20260218T214023Z
LAST-MODIFIED:20260324T013642Z
UID:10001803-1859994000-1860015600@mdjneuville.com
SUMMARY:Soirée libre
DESCRIPTION:Soirée libre à la MDJ pour les ados (12-17 ans).\nConsulte notre page Facebook ou Instagram pour savoir quels anims seront présents ce soir !
URL:https://mdjneuville.com/activite/soiree-libre-51/2028-12-09/
LOCATION:Maison des Jeunes de Neuville
CATEGORIES:Soirées libres
ATTACH;FMTTYPE=image/png:https://mdjneuville.com/wp-content/uploads/2025/10/Soiree-Libre.png
END:VEVENT
BEGIN:VEVENT
DTSTART;TZID=America/Toronto:20281213T170000
DTEND;TZID=America/Toronto:20281213T220000
DTSTAMP:20260424T002749
CREATED:20260218T213033Z
LAST-MODIFIED:20260324T012903Z
UID:10000911-1860339600-1860357600@mdjneuville.com
SUMMARY:Soirée libre
DESCRIPTION:Soirée libre à la MDJ pour les ados (12-17 ans).\nConsulte notre page Facebook ou Instagram pour savoir quels anims seront présents ce soir !
URL:https://mdjneuville.com/activite/soiree-libre-49/2028-12-13/
LOCATION:Maison des Jeunes de Neuville
CATEGORIES:Soirées libres
ATTACH;FMTTYPE=image/png:https://mdjneuville.com/wp-content/uploads/2025/10/Soiree-Libre.png
END:VEVENT
BEGIN:VEVENT
DTSTART;TZID=America/Toronto:20281214T170000
DTEND;TZID=America/Toronto:20281214T220000
DTSTAMP:20260424T002749
CREATED:20260218T213033Z
LAST-MODIFIED:20260324T012903Z
UID:10000912-1860426000-1860444000@mdjneuville.com
SUMMARY:Soirée libre
DESCRIPTION:Soirée libre à la MDJ pour les ados (12-17 ans).\nConsulte notre page Facebook ou Instagram pour savoir quels anims seront présents ce soir !
URL:https://mdjneuville.com/activite/soiree-libre-49/2028-12-14/
LOCATION:Maison des Jeunes de Neuville
CATEGORIES:Soirées libres
ATTACH;FMTTYPE=image/png:https://mdjneuville.com/wp-content/uploads/2025/10/Soiree-Libre.png
END:VEVENT
BEGIN:VEVENT
DTSTART;TZID=America/Toronto:20281215T150000
DTEND;TZID=America/Toronto:20281215T180000
DTSTAMP:20260424T002749
CREATED:20260303T205657Z
LAST-MODIFIED:20260324T013053Z
UID:10002068-1860505200-1860516000@mdjneuville.com
SUMMARY:Projet relève
DESCRIPTION:Période d’ouverture pour les jeunes de 5ième et 6ième année de l’école Courval.
URL:https://mdjneuville.com/activite/projet-releve-21/2028-12-15/
LOCATION:Maison des Jeunes de Neuville
CATEGORIES:Relèves
ATTACH;FMTTYPE=image/png:https://mdjneuville.com/wp-content/uploads/2025/10/IMAGE-PROJET-RELEVE.png
END:VEVENT
BEGIN:VEVENT
DTSTART;TZID=America/Toronto:20281215T180000
DTEND;TZID=America/Toronto:20281215T230000
DTSTAMP:20260424T002749
CREATED:20260303T215156Z
LAST-MODIFIED:20260323T231137Z
UID:10002600-1860516000-1860534000@mdjneuville.com
SUMMARY:Soirée libre
DESCRIPTION:Soirée libre à la MDJ pour les ados (12-17 ans).\nConsulte notre page Facebook ou Instagram pour savoir quels anims seront présents ce soir !
URL:https://mdjneuville.com/activite/soiree-libre-52/2028-12-15/
LOCATION:Maison des Jeunes de Neuville
CATEGORIES:Soirées libres
ATTACH;FMTTYPE=image/png:https://mdjneuville.com/wp-content/uploads/2025/10/Soiree-Libre.png
END:VEVENT
BEGIN:VEVENT
DTSTART;TZID=America/Toronto:20281216T170000
DTEND;TZID=America/Toronto:20281216T230000
DTSTAMP:20260424T002749
CREATED:20260218T214023Z
LAST-MODIFIED:20260324T013642Z
UID:10001804-1860598800-1860620400@mdjneuville.com
SUMMARY:Soirée libre
DESCRIPTION:Soirée libre à la MDJ pour les ados (12-17 ans).\nConsulte notre page Facebook ou Instagram pour savoir quels anims seront présents ce soir !
URL:https://mdjneuville.com/activite/soiree-libre-51/2028-12-16/
LOCATION:Maison des Jeunes de Neuville
CATEGORIES:Soirées libres
ATTACH;FMTTYPE=image/png:https://mdjneuville.com/wp-content/uploads/2025/10/Soiree-Libre.png
END:VEVENT
BEGIN:VEVENT
DTSTART;TZID=America/Toronto:20281220T170000
DTEND;TZID=America/Toronto:20281220T220000
DTSTAMP:20260424T002749
CREATED:20260218T213033Z
LAST-MODIFIED:20260324T012903Z
UID:10000913-1860944400-1860962400@mdjneuville.com
SUMMARY:Soirée libre
DESCRIPTION:Soirée libre à la MDJ pour les ados (12-17 ans).\nConsulte notre page Facebook ou Instagram pour savoir quels anims seront présents ce soir !
URL:https://mdjneuville.com/activite/soiree-libre-49/2028-12-20/
LOCATION:Maison des Jeunes de Neuville
CATEGORIES:Soirées libres
ATTACH;FMTTYPE=image/png:https://mdjneuville.com/wp-content/uploads/2025/10/Soiree-Libre.png
END:VEVENT
BEGIN:VEVENT
DTSTART;TZID=America/Toronto:20281221T170000
DTEND;TZID=America/Toronto:20281221T220000
DTSTAMP:20260424T002749
CREATED:20260218T213033Z
LAST-MODIFIED:20260324T012903Z
UID:10000914-1861030800-1861048800@mdjneuville.com
SUMMARY:Soirée libre
DESCRIPTION:Soirée libre à la MDJ pour les ados (12-17 ans).\nConsulte notre page Facebook ou Instagram pour savoir quels anims seront présents ce soir !
URL:https://mdjneuville.com/activite/soiree-libre-49/2028-12-21/
LOCATION:Maison des Jeunes de Neuville
CATEGORIES:Soirées libres
ATTACH;FMTTYPE=image/png:https://mdjneuville.com/wp-content/uploads/2025/10/Soiree-Libre.png
END:VEVENT
BEGIN:VEVENT
DTSTART;TZID=America/Toronto:20281222T150000
DTEND;TZID=America/Toronto:20281222T180000
DTSTAMP:20260424T002749
CREATED:20260303T205657Z
LAST-MODIFIED:20260324T013053Z
UID:10002069-1861110000-1861120800@mdjneuville.com
SUMMARY:Projet relève
DESCRIPTION:Période d’ouverture pour les jeunes de 5ième et 6ième année de l’école Courval.
URL:https://mdjneuville.com/activite/projet-releve-21/2028-12-22/
LOCATION:Maison des Jeunes de Neuville
CATEGORIES:Relèves
ATTACH;FMTTYPE=image/png:https://mdjneuville.com/wp-content/uploads/2025/10/IMAGE-PROJET-RELEVE.png
END:VEVENT
BEGIN:VEVENT
DTSTART;TZID=America/Toronto:20281222T180000
DTEND;TZID=America/Toronto:20281222T230000
DTSTAMP:20260424T002749
CREATED:20260303T215156Z
LAST-MODIFIED:20260323T231137Z
UID:10002601-1861120800-1861138800@mdjneuville.com
SUMMARY:Soirée libre
DESCRIPTION:Soirée libre à la MDJ pour les ados (12-17 ans).\nConsulte notre page Facebook ou Instagram pour savoir quels anims seront présents ce soir !
URL:https://mdjneuville.com/activite/soiree-libre-52/2028-12-22/
LOCATION:Maison des Jeunes de Neuville
CATEGORIES:Soirées libres
ATTACH;FMTTYPE=image/png:https://mdjneuville.com/wp-content/uploads/2025/10/Soiree-Libre.png
END:VEVENT
BEGIN:VEVENT
DTSTART;TZID=America/Toronto:20281223T170000
DTEND;TZID=America/Toronto:20281223T230000
DTSTAMP:20260424T002749
CREATED:20260218T214023Z
LAST-MODIFIED:20260324T013642Z
UID:10001805-1861203600-1861225200@mdjneuville.com
SUMMARY:Soirée libre
DESCRIPTION:Soirée libre à la MDJ pour les ados (12-17 ans).\nConsulte notre page Facebook ou Instagram pour savoir quels anims seront présents ce soir !
URL:https://mdjneuville.com/activite/soiree-libre-51/2028-12-23/
LOCATION:Maison des Jeunes de Neuville
CATEGORIES:Soirées libres
ATTACH;FMTTYPE=image/png:https://mdjneuville.com/wp-content/uploads/2025/10/Soiree-Libre.png
END:VEVENT
BEGIN:VEVENT
DTSTART;TZID=America/Toronto:20281227T170000
DTEND;TZID=America/Toronto:20281227T220000
DTSTAMP:20260424T002749
CREATED:20260218T213033Z
LAST-MODIFIED:20260324T012903Z
UID:10000915-1861549200-1861567200@mdjneuville.com
SUMMARY:Soirée libre
DESCRIPTION:Soirée libre à la MDJ pour les ados (12-17 ans).\nConsulte notre page Facebook ou Instagram pour savoir quels anims seront présents ce soir !
URL:https://mdjneuville.com/activite/soiree-libre-49/2028-12-27/
LOCATION:Maison des Jeunes de Neuville
CATEGORIES:Soirées libres
ATTACH;FMTTYPE=image/png:https://mdjneuville.com/wp-content/uploads/2025/10/Soiree-Libre.png
END:VEVENT
BEGIN:VEVENT
DTSTART;TZID=America/Toronto:20281228T170000
DTEND;TZID=America/Toronto:20281228T220000
DTSTAMP:20260424T002749
CREATED:20260218T213033Z
LAST-MODIFIED:20260324T012903Z
UID:10000916-1861635600-1861653600@mdjneuville.com
SUMMARY:Soirée libre
DESCRIPTION:Soirée libre à la MDJ pour les ados (12-17 ans).\nConsulte notre page Facebook ou Instagram pour savoir quels anims seront présents ce soir !
URL:https://mdjneuville.com/activite/soiree-libre-49/2028-12-28/
LOCATION:Maison des Jeunes de Neuville
CATEGORIES:Soirées libres
ATTACH;FMTTYPE=image/png:https://mdjneuville.com/wp-content/uploads/2025/10/Soiree-Libre.png
END:VEVENT
BEGIN:VEVENT
DTSTART;TZID=America/Toronto:20281229T150000
DTEND;TZID=America/Toronto:20281229T180000
DTSTAMP:20260424T002749
CREATED:20260303T205657Z
LAST-MODIFIED:20260324T013053Z
UID:10002070-1861714800-1861725600@mdjneuville.com
SUMMARY:Projet relève
DESCRIPTION:Période d’ouverture pour les jeunes de 5ième et 6ième année de l’école Courval.
URL:https://mdjneuville.com/activite/projet-releve-21/2028-12-29/
LOCATION:Maison des Jeunes de Neuville
CATEGORIES:Relèves
ATTACH;FMTTYPE=image/png:https://mdjneuville.com/wp-content/uploads/2025/10/IMAGE-PROJET-RELEVE.png
END:VEVENT
BEGIN:VEVENT
DTSTART;TZID=America/Toronto:20281229T180000
DTEND;TZID=America/Toronto:20281229T230000
DTSTAMP:20260424T002749
CREATED:20260303T215156Z
LAST-MODIFIED:20260323T231137Z
UID:10002602-1861725600-1861743600@mdjneuville.com
SUMMARY:Soirée libre
DESCRIPTION:Soirée libre à la MDJ pour les ados (12-17 ans).\nConsulte notre page Facebook ou Instagram pour savoir quels anims seront présents ce soir !
URL:https://mdjneuville.com/activite/soiree-libre-52/2028-12-29/
LOCATION:Maison des Jeunes de Neuville
CATEGORIES:Soirées libres
ATTACH;FMTTYPE=image/png:https://mdjneuville.com/wp-content/uploads/2025/10/Soiree-Libre.png
END:VEVENT
END:VCALENDAR