BEGIN:VCALENDAR
VERSION:2.0
PRODID:-//Maison des jeunes BGC de Neuville - ECPv6.15.20//NONSGML v1.0//EN
CALSCALE:GREGORIAN
METHOD:PUBLISH
X-WR-CALNAME:Maison des jeunes BGC de Neuville
X-ORIGINAL-URL:https://mdjneuville.com
X-WR-CALDESC:Événements pour Maison des jeunes BGC de Neuville
REFRESH-INTERVAL;VALUE=DURATION:PT1H
X-Robots-Tag:noindex
X-PUBLISHED-TTL:PT1H
BEGIN:VTIMEZONE
TZID:America/Toronto
BEGIN:DAYLIGHT
TZOFFSETFROM:-0500
TZOFFSETTO:-0400
TZNAME:EDT
DTSTART:20280312T070000
END:DAYLIGHT
BEGIN:STANDARD
TZOFFSETFROM:-0400
TZOFFSETTO:-0500
TZNAME:EST
DTSTART:20281105T060000
END:STANDARD
BEGIN:DAYLIGHT
TZOFFSETFROM:-0500
TZOFFSETTO:-0400
TZNAME:EDT
DTSTART:20290311T070000
END:DAYLIGHT
BEGIN:STANDARD
TZOFFSETFROM:-0400
TZOFFSETTO:-0500
TZNAME:EST
DTSTART:20291104T060000
END:STANDARD
BEGIN:DAYLIGHT
TZOFFSETFROM:-0500
TZOFFSETTO:-0400
TZNAME:EDT
DTSTART:20300310T070000
END:DAYLIGHT
BEGIN:STANDARD
TZOFFSETFROM:-0400
TZOFFSETTO:-0500
TZNAME:EST
DTSTART:20301103T060000
END:STANDARD
END:VTIMEZONE
BEGIN:VEVENT
DTSTART;TZID=America/Toronto:20290110T170000
DTEND;TZID=America/Toronto:20290110T220000
DTSTAMP:20260424T060604
CREATED:20260218T213033Z
LAST-MODIFIED:20260324T012903Z
UID:10000919-1862758800-1862776800@mdjneuville.com
SUMMARY:Soirée libre
DESCRIPTION:Soirée libre à la MDJ pour les ados (12-17 ans).\nConsulte notre page Facebook ou Instagram pour savoir quels anims seront présents ce soir !
URL:https://mdjneuville.com/activite/soiree-libre-49/2029-01-10/
LOCATION:Maison des Jeunes de Neuville
CATEGORIES:Soirées libres
ATTACH;FMTTYPE=image/png:https://mdjneuville.com/wp-content/uploads/2025/10/Soiree-Libre.png
END:VEVENT
BEGIN:VEVENT
DTSTART;TZID=America/Toronto:20290111T170000
DTEND;TZID=America/Toronto:20290111T220000
DTSTAMP:20260424T060604
CREATED:20260218T213033Z
LAST-MODIFIED:20260324T012903Z
UID:10000920-1862845200-1862863200@mdjneuville.com
SUMMARY:Soirée libre
DESCRIPTION:Soirée libre à la MDJ pour les ados (12-17 ans).\nConsulte notre page Facebook ou Instagram pour savoir quels anims seront présents ce soir !
URL:https://mdjneuville.com/activite/soiree-libre-49/2029-01-11/
LOCATION:Maison des Jeunes de Neuville
CATEGORIES:Soirées libres
ATTACH;FMTTYPE=image/png:https://mdjneuville.com/wp-content/uploads/2025/10/Soiree-Libre.png
END:VEVENT
BEGIN:VEVENT
DTSTART;TZID=America/Toronto:20290112T150000
DTEND;TZID=America/Toronto:20290112T180000
DTSTAMP:20260424T060604
CREATED:20260303T205657Z
LAST-MODIFIED:20260324T013053Z
UID:10002072-1862924400-1862935200@mdjneuville.com
SUMMARY:Projet relève
DESCRIPTION:Période d’ouverture pour les jeunes de 5ième et 6ième année de l’école Courval.
URL:https://mdjneuville.com/activite/projet-releve-21/2029-01-12/
LOCATION:Maison des Jeunes de Neuville
CATEGORIES:Relèves
ATTACH;FMTTYPE=image/png:https://mdjneuville.com/wp-content/uploads/2025/10/IMAGE-PROJET-RELEVE.png
END:VEVENT
BEGIN:VEVENT
DTSTART;TZID=America/Toronto:20290112T180000
DTEND;TZID=America/Toronto:20290112T230000
DTSTAMP:20260424T060604
CREATED:20260303T215156Z
LAST-MODIFIED:20260323T231137Z
UID:10002604-1862935200-1862953200@mdjneuville.com
SUMMARY:Soirée libre
DESCRIPTION:Soirée libre à la MDJ pour les ados (12-17 ans).\nConsulte notre page Facebook ou Instagram pour savoir quels anims seront présents ce soir !
URL:https://mdjneuville.com/activite/soiree-libre-52/2029-01-12/
LOCATION:Maison des Jeunes de Neuville
CATEGORIES:Soirées libres
ATTACH;FMTTYPE=image/png:https://mdjneuville.com/wp-content/uploads/2025/10/Soiree-Libre.png
END:VEVENT
BEGIN:VEVENT
DTSTART;TZID=America/Toronto:20290113T170000
DTEND;TZID=America/Toronto:20290113T230000
DTSTAMP:20260424T060604
CREATED:20260218T214023Z
LAST-MODIFIED:20260324T013642Z
UID:10001808-1863018000-1863039600@mdjneuville.com
SUMMARY:Soirée libre
DESCRIPTION:Soirée libre à la MDJ pour les ados (12-17 ans).\nConsulte notre page Facebook ou Instagram pour savoir quels anims seront présents ce soir !
URL:https://mdjneuville.com/activite/soiree-libre-51/2029-01-13/
LOCATION:Maison des Jeunes de Neuville
CATEGORIES:Soirées libres
ATTACH;FMTTYPE=image/png:https://mdjneuville.com/wp-content/uploads/2025/10/Soiree-Libre.png
END:VEVENT
BEGIN:VEVENT
DTSTART;TZID=America/Toronto:20290117T170000
DTEND;TZID=America/Toronto:20290117T220000
DTSTAMP:20260424T060604
CREATED:20260218T213033Z
LAST-MODIFIED:20260324T012903Z
UID:10000921-1863363600-1863381600@mdjneuville.com
SUMMARY:Soirée libre
DESCRIPTION:Soirée libre à la MDJ pour les ados (12-17 ans).\nConsulte notre page Facebook ou Instagram pour savoir quels anims seront présents ce soir !
URL:https://mdjneuville.com/activite/soiree-libre-49/2029-01-17/
LOCATION:Maison des Jeunes de Neuville
CATEGORIES:Soirées libres
ATTACH;FMTTYPE=image/png:https://mdjneuville.com/wp-content/uploads/2025/10/Soiree-Libre.png
END:VEVENT
BEGIN:VEVENT
DTSTART;TZID=America/Toronto:20290118T170000
DTEND;TZID=America/Toronto:20290118T220000
DTSTAMP:20260424T060604
CREATED:20260218T213033Z
LAST-MODIFIED:20260324T012903Z
UID:10000922-1863450000-1863468000@mdjneuville.com
SUMMARY:Soirée libre
DESCRIPTION:Soirée libre à la MDJ pour les ados (12-17 ans).\nConsulte notre page Facebook ou Instagram pour savoir quels anims seront présents ce soir !
URL:https://mdjneuville.com/activite/soiree-libre-49/2029-01-18/
LOCATION:Maison des Jeunes de Neuville
CATEGORIES:Soirées libres
ATTACH;FMTTYPE=image/png:https://mdjneuville.com/wp-content/uploads/2025/10/Soiree-Libre.png
END:VEVENT
BEGIN:VEVENT
DTSTART;TZID=America/Toronto:20290119T150000
DTEND;TZID=America/Toronto:20290119T180000
DTSTAMP:20260424T060604
CREATED:20260303T205657Z
LAST-MODIFIED:20260324T013053Z
UID:10002073-1863529200-1863540000@mdjneuville.com
SUMMARY:Projet relève
DESCRIPTION:Période d’ouverture pour les jeunes de 5ième et 6ième année de l’école Courval.
URL:https://mdjneuville.com/activite/projet-releve-21/2029-01-19/
LOCATION:Maison des Jeunes de Neuville
CATEGORIES:Relèves
ATTACH;FMTTYPE=image/png:https://mdjneuville.com/wp-content/uploads/2025/10/IMAGE-PROJET-RELEVE.png
END:VEVENT
BEGIN:VEVENT
DTSTART;TZID=America/Toronto:20290119T180000
DTEND;TZID=America/Toronto:20290119T230000
DTSTAMP:20260424T060604
CREATED:20260303T215156Z
LAST-MODIFIED:20260323T231137Z
UID:10002605-1863540000-1863558000@mdjneuville.com
SUMMARY:Soirée libre
DESCRIPTION:Soirée libre à la MDJ pour les ados (12-17 ans).\nConsulte notre page Facebook ou Instagram pour savoir quels anims seront présents ce soir !
URL:https://mdjneuville.com/activite/soiree-libre-52/2029-01-19/
LOCATION:Maison des Jeunes de Neuville
CATEGORIES:Soirées libres
ATTACH;FMTTYPE=image/png:https://mdjneuville.com/wp-content/uploads/2025/10/Soiree-Libre.png
END:VEVENT
BEGIN:VEVENT
DTSTART;TZID=America/Toronto:20290120T170000
DTEND;TZID=America/Toronto:20290120T230000
DTSTAMP:20260424T060604
CREATED:20260218T214023Z
LAST-MODIFIED:20260324T013642Z
UID:10001809-1863622800-1863644400@mdjneuville.com
SUMMARY:Soirée libre
DESCRIPTION:Soirée libre à la MDJ pour les ados (12-17 ans).\nConsulte notre page Facebook ou Instagram pour savoir quels anims seront présents ce soir !
URL:https://mdjneuville.com/activite/soiree-libre-51/2029-01-20/
LOCATION:Maison des Jeunes de Neuville
CATEGORIES:Soirées libres
ATTACH;FMTTYPE=image/png:https://mdjneuville.com/wp-content/uploads/2025/10/Soiree-Libre.png
END:VEVENT
BEGIN:VEVENT
DTSTART;TZID=America/Toronto:20290124T170000
DTEND;TZID=America/Toronto:20290124T220000
DTSTAMP:20260424T060604
CREATED:20260218T213033Z
LAST-MODIFIED:20260324T012903Z
UID:10000923-1863968400-1863986400@mdjneuville.com
SUMMARY:Soirée libre
DESCRIPTION:Soirée libre à la MDJ pour les ados (12-17 ans).\nConsulte notre page Facebook ou Instagram pour savoir quels anims seront présents ce soir !
URL:https://mdjneuville.com/activite/soiree-libre-49/2029-01-24/
LOCATION:Maison des Jeunes de Neuville
CATEGORIES:Soirées libres
ATTACH;FMTTYPE=image/png:https://mdjneuville.com/wp-content/uploads/2025/10/Soiree-Libre.png
END:VEVENT
BEGIN:VEVENT
DTSTART;TZID=America/Toronto:20290125T170000
DTEND;TZID=America/Toronto:20290125T220000
DTSTAMP:20260424T060604
CREATED:20260218T213033Z
LAST-MODIFIED:20260324T012903Z
UID:10000924-1864054800-1864072800@mdjneuville.com
SUMMARY:Soirée libre
DESCRIPTION:Soirée libre à la MDJ pour les ados (12-17 ans).\nConsulte notre page Facebook ou Instagram pour savoir quels anims seront présents ce soir !
URL:https://mdjneuville.com/activite/soiree-libre-49/2029-01-25/
LOCATION:Maison des Jeunes de Neuville
CATEGORIES:Soirées libres
ATTACH;FMTTYPE=image/png:https://mdjneuville.com/wp-content/uploads/2025/10/Soiree-Libre.png
END:VEVENT
BEGIN:VEVENT
DTSTART;TZID=America/Toronto:20290126T150000
DTEND;TZID=America/Toronto:20290126T180000
DTSTAMP:20260424T060604
CREATED:20260303T205657Z
LAST-MODIFIED:20260324T013053Z
UID:10002074-1864134000-1864144800@mdjneuville.com
SUMMARY:Projet relève
DESCRIPTION:Période d’ouverture pour les jeunes de 5ième et 6ième année de l’école Courval.
URL:https://mdjneuville.com/activite/projet-releve-21/2029-01-26/
LOCATION:Maison des Jeunes de Neuville
CATEGORIES:Relèves
ATTACH;FMTTYPE=image/png:https://mdjneuville.com/wp-content/uploads/2025/10/IMAGE-PROJET-RELEVE.png
END:VEVENT
BEGIN:VEVENT
DTSTART;TZID=America/Toronto:20290126T180000
DTEND;TZID=America/Toronto:20290126T230000
DTSTAMP:20260424T060604
CREATED:20260303T215156Z
LAST-MODIFIED:20260323T231137Z
UID:10002606-1864144800-1864162800@mdjneuville.com
SUMMARY:Soirée libre
DESCRIPTION:Soirée libre à la MDJ pour les ados (12-17 ans).\nConsulte notre page Facebook ou Instagram pour savoir quels anims seront présents ce soir !
URL:https://mdjneuville.com/activite/soiree-libre-52/2029-01-26/
LOCATION:Maison des Jeunes de Neuville
CATEGORIES:Soirées libres
ATTACH;FMTTYPE=image/png:https://mdjneuville.com/wp-content/uploads/2025/10/Soiree-Libre.png
END:VEVENT
BEGIN:VEVENT
DTSTART;TZID=America/Toronto:20290127T170000
DTEND;TZID=America/Toronto:20290127T230000
DTSTAMP:20260424T060604
CREATED:20260218T214023Z
LAST-MODIFIED:20260324T013642Z
UID:10001810-1864227600-1864249200@mdjneuville.com
SUMMARY:Soirée libre
DESCRIPTION:Soirée libre à la MDJ pour les ados (12-17 ans).\nConsulte notre page Facebook ou Instagram pour savoir quels anims seront présents ce soir !
URL:https://mdjneuville.com/activite/soiree-libre-51/2029-01-27/
LOCATION:Maison des Jeunes de Neuville
CATEGORIES:Soirées libres
ATTACH;FMTTYPE=image/png:https://mdjneuville.com/wp-content/uploads/2025/10/Soiree-Libre.png
END:VEVENT
BEGIN:VEVENT
DTSTART;TZID=America/Toronto:20290131T170000
DTEND;TZID=America/Toronto:20290131T220000
DTSTAMP:20260424T060604
CREATED:20260218T213033Z
LAST-MODIFIED:20260324T012903Z
UID:10000925-1864573200-1864591200@mdjneuville.com
SUMMARY:Soirée libre
DESCRIPTION:Soirée libre à la MDJ pour les ados (12-17 ans).\nConsulte notre page Facebook ou Instagram pour savoir quels anims seront présents ce soir !
URL:https://mdjneuville.com/activite/soiree-libre-49/2029-01-31/
LOCATION:Maison des Jeunes de Neuville
CATEGORIES:Soirées libres
ATTACH;FMTTYPE=image/png:https://mdjneuville.com/wp-content/uploads/2025/10/Soiree-Libre.png
END:VEVENT
BEGIN:VEVENT
DTSTART;TZID=America/Toronto:20290201T170000
DTEND;TZID=America/Toronto:20290201T220000
DTSTAMP:20260424T060604
CREATED:20260218T213033Z
LAST-MODIFIED:20260324T012903Z
UID:10000926-1864659600-1864677600@mdjneuville.com
SUMMARY:Soirée libre
DESCRIPTION:Soirée libre à la MDJ pour les ados (12-17 ans).\nConsulte notre page Facebook ou Instagram pour savoir quels anims seront présents ce soir !
URL:https://mdjneuville.com/activite/soiree-libre-49/2029-02-01/
LOCATION:Maison des Jeunes de Neuville
CATEGORIES:Soirées libres
ATTACH;FMTTYPE=image/png:https://mdjneuville.com/wp-content/uploads/2025/10/Soiree-Libre.png
END:VEVENT
BEGIN:VEVENT
DTSTART;TZID=America/Toronto:20290202T150000
DTEND;TZID=America/Toronto:20290202T180000
DTSTAMP:20260424T060604
CREATED:20260303T205657Z
LAST-MODIFIED:20260324T013053Z
UID:10002075-1864738800-1864749600@mdjneuville.com
SUMMARY:Projet relève
DESCRIPTION:Période d’ouverture pour les jeunes de 5ième et 6ième année de l’école Courval.
URL:https://mdjneuville.com/activite/projet-releve-21/2029-02-02/
LOCATION:Maison des Jeunes de Neuville
CATEGORIES:Relèves
ATTACH;FMTTYPE=image/png:https://mdjneuville.com/wp-content/uploads/2025/10/IMAGE-PROJET-RELEVE.png
END:VEVENT
BEGIN:VEVENT
DTSTART;TZID=America/Toronto:20290202T180000
DTEND;TZID=America/Toronto:20290202T230000
DTSTAMP:20260424T060604
CREATED:20260303T215156Z
LAST-MODIFIED:20260323T231137Z
UID:10002607-1864749600-1864767600@mdjneuville.com
SUMMARY:Soirée libre
DESCRIPTION:Soirée libre à la MDJ pour les ados (12-17 ans).\nConsulte notre page Facebook ou Instagram pour savoir quels anims seront présents ce soir !
URL:https://mdjneuville.com/activite/soiree-libre-52/2029-02-02/
LOCATION:Maison des Jeunes de Neuville
CATEGORIES:Soirées libres
ATTACH;FMTTYPE=image/png:https://mdjneuville.com/wp-content/uploads/2025/10/Soiree-Libre.png
END:VEVENT
BEGIN:VEVENT
DTSTART;TZID=America/Toronto:20290203T170000
DTEND;TZID=America/Toronto:20290203T230000
DTSTAMP:20260424T060604
CREATED:20260218T214023Z
LAST-MODIFIED:20260324T013642Z
UID:10001811-1864832400-1864854000@mdjneuville.com
SUMMARY:Soirée libre
DESCRIPTION:Soirée libre à la MDJ pour les ados (12-17 ans).\nConsulte notre page Facebook ou Instagram pour savoir quels anims seront présents ce soir !
URL:https://mdjneuville.com/activite/soiree-libre-51/2029-02-03/
LOCATION:Maison des Jeunes de Neuville
CATEGORIES:Soirées libres
ATTACH;FMTTYPE=image/png:https://mdjneuville.com/wp-content/uploads/2025/10/Soiree-Libre.png
END:VEVENT
BEGIN:VEVENT
DTSTART;TZID=America/Toronto:20290207T170000
DTEND;TZID=America/Toronto:20290207T220000
DTSTAMP:20260424T060604
CREATED:20260218T213033Z
LAST-MODIFIED:20260324T012903Z
UID:10000927-1865178000-1865196000@mdjneuville.com
SUMMARY:Soirée libre
DESCRIPTION:Soirée libre à la MDJ pour les ados (12-17 ans).\nConsulte notre page Facebook ou Instagram pour savoir quels anims seront présents ce soir !
URL:https://mdjneuville.com/activite/soiree-libre-49/2029-02-07/
LOCATION:Maison des Jeunes de Neuville
CATEGORIES:Soirées libres
ATTACH;FMTTYPE=image/png:https://mdjneuville.com/wp-content/uploads/2025/10/Soiree-Libre.png
END:VEVENT
BEGIN:VEVENT
DTSTART;TZID=America/Toronto:20290208T170000
DTEND;TZID=America/Toronto:20290208T220000
DTSTAMP:20260424T060604
CREATED:20260218T213033Z
LAST-MODIFIED:20260324T012903Z
UID:10000928-1865264400-1865282400@mdjneuville.com
SUMMARY:Soirée libre
DESCRIPTION:Soirée libre à la MDJ pour les ados (12-17 ans).\nConsulte notre page Facebook ou Instagram pour savoir quels anims seront présents ce soir !
URL:https://mdjneuville.com/activite/soiree-libre-49/2029-02-08/
LOCATION:Maison des Jeunes de Neuville
CATEGORIES:Soirées libres
ATTACH;FMTTYPE=image/png:https://mdjneuville.com/wp-content/uploads/2025/10/Soiree-Libre.png
END:VEVENT
BEGIN:VEVENT
DTSTART;TZID=America/Toronto:20290209T150000
DTEND;TZID=America/Toronto:20290209T180000
DTSTAMP:20260424T060604
CREATED:20260303T205657Z
LAST-MODIFIED:20260324T013053Z
UID:10002076-1865343600-1865354400@mdjneuville.com
SUMMARY:Projet relève
DESCRIPTION:Période d’ouverture pour les jeunes de 5ième et 6ième année de l’école Courval.
URL:https://mdjneuville.com/activite/projet-releve-21/2029-02-09/
LOCATION:Maison des Jeunes de Neuville
CATEGORIES:Relèves
ATTACH;FMTTYPE=image/png:https://mdjneuville.com/wp-content/uploads/2025/10/IMAGE-PROJET-RELEVE.png
END:VEVENT
BEGIN:VEVENT
DTSTART;TZID=America/Toronto:20290209T180000
DTEND;TZID=America/Toronto:20290209T230000
DTSTAMP:20260424T060604
CREATED:20260303T215156Z
LAST-MODIFIED:20260323T231137Z
UID:10002608-1865354400-1865372400@mdjneuville.com
SUMMARY:Soirée libre
DESCRIPTION:Soirée libre à la MDJ pour les ados (12-17 ans).\nConsulte notre page Facebook ou Instagram pour savoir quels anims seront présents ce soir !
URL:https://mdjneuville.com/activite/soiree-libre-52/2029-02-09/
LOCATION:Maison des Jeunes de Neuville
CATEGORIES:Soirées libres
ATTACH;FMTTYPE=image/png:https://mdjneuville.com/wp-content/uploads/2025/10/Soiree-Libre.png
END:VEVENT
BEGIN:VEVENT
DTSTART;TZID=America/Toronto:20290210T170000
DTEND;TZID=America/Toronto:20290210T230000
DTSTAMP:20260424T060604
CREATED:20260218T214023Z
LAST-MODIFIED:20260324T013642Z
UID:10001812-1865437200-1865458800@mdjneuville.com
SUMMARY:Soirée libre
DESCRIPTION:Soirée libre à la MDJ pour les ados (12-17 ans).\nConsulte notre page Facebook ou Instagram pour savoir quels anims seront présents ce soir !
URL:https://mdjneuville.com/activite/soiree-libre-51/2029-02-10/
LOCATION:Maison des Jeunes de Neuville
CATEGORIES:Soirées libres
ATTACH;FMTTYPE=image/png:https://mdjneuville.com/wp-content/uploads/2025/10/Soiree-Libre.png
END:VEVENT
BEGIN:VEVENT
DTSTART;TZID=America/Toronto:20290214T170000
DTEND;TZID=America/Toronto:20290214T220000
DTSTAMP:20260424T060604
CREATED:20260218T213033Z
LAST-MODIFIED:20260324T012903Z
UID:10000929-1865782800-1865800800@mdjneuville.com
SUMMARY:Soirée libre
DESCRIPTION:Soirée libre à la MDJ pour les ados (12-17 ans).\nConsulte notre page Facebook ou Instagram pour savoir quels anims seront présents ce soir !
URL:https://mdjneuville.com/activite/soiree-libre-49/2029-02-14/
LOCATION:Maison des Jeunes de Neuville
CATEGORIES:Soirées libres
ATTACH;FMTTYPE=image/png:https://mdjneuville.com/wp-content/uploads/2025/10/Soiree-Libre.png
END:VEVENT
BEGIN:VEVENT
DTSTART;TZID=America/Toronto:20290215T170000
DTEND;TZID=America/Toronto:20290215T220000
DTSTAMP:20260424T060604
CREATED:20260218T213033Z
LAST-MODIFIED:20260324T012903Z
UID:10000930-1865869200-1865887200@mdjneuville.com
SUMMARY:Soirée libre
DESCRIPTION:Soirée libre à la MDJ pour les ados (12-17 ans).\nConsulte notre page Facebook ou Instagram pour savoir quels anims seront présents ce soir !
URL:https://mdjneuville.com/activite/soiree-libre-49/2029-02-15/
LOCATION:Maison des Jeunes de Neuville
CATEGORIES:Soirées libres
ATTACH;FMTTYPE=image/png:https://mdjneuville.com/wp-content/uploads/2025/10/Soiree-Libre.png
END:VEVENT
BEGIN:VEVENT
DTSTART;TZID=America/Toronto:20290216T150000
DTEND;TZID=America/Toronto:20290216T180000
DTSTAMP:20260424T060604
CREATED:20260303T205657Z
LAST-MODIFIED:20260324T013053Z
UID:10002077-1865948400-1865959200@mdjneuville.com
SUMMARY:Projet relève
DESCRIPTION:Période d’ouverture pour les jeunes de 5ième et 6ième année de l’école Courval.
URL:https://mdjneuville.com/activite/projet-releve-21/2029-02-16/
LOCATION:Maison des Jeunes de Neuville
CATEGORIES:Relèves
ATTACH;FMTTYPE=image/png:https://mdjneuville.com/wp-content/uploads/2025/10/IMAGE-PROJET-RELEVE.png
END:VEVENT
BEGIN:VEVENT
DTSTART;TZID=America/Toronto:20290216T180000
DTEND;TZID=America/Toronto:20290216T230000
DTSTAMP:20260424T060604
CREATED:20260303T215156Z
LAST-MODIFIED:20260323T231137Z
UID:10002609-1865959200-1865977200@mdjneuville.com
SUMMARY:Soirée libre
DESCRIPTION:Soirée libre à la MDJ pour les ados (12-17 ans).\nConsulte notre page Facebook ou Instagram pour savoir quels anims seront présents ce soir !
URL:https://mdjneuville.com/activite/soiree-libre-52/2029-02-16/
LOCATION:Maison des Jeunes de Neuville
CATEGORIES:Soirées libres
ATTACH;FMTTYPE=image/png:https://mdjneuville.com/wp-content/uploads/2025/10/Soiree-Libre.png
END:VEVENT
BEGIN:VEVENT
DTSTART;TZID=America/Toronto:20290217T170000
DTEND;TZID=America/Toronto:20290217T230000
DTSTAMP:20260424T060604
CREATED:20260218T214023Z
LAST-MODIFIED:20260324T013642Z
UID:10001813-1866042000-1866063600@mdjneuville.com
SUMMARY:Soirée libre
DESCRIPTION:Soirée libre à la MDJ pour les ados (12-17 ans).\nConsulte notre page Facebook ou Instagram pour savoir quels anims seront présents ce soir !
URL:https://mdjneuville.com/activite/soiree-libre-51/2029-02-17/
LOCATION:Maison des Jeunes de Neuville
CATEGORIES:Soirées libres
ATTACH;FMTTYPE=image/png:https://mdjneuville.com/wp-content/uploads/2025/10/Soiree-Libre.png
END:VEVENT
END:VCALENDAR