BEGIN:VCALENDAR
VERSION:2.0
PRODID:-//Maison des jeunes BGC de Neuville - ECPv6.15.20//NONSGML v1.0//EN
CALSCALE:GREGORIAN
METHOD:PUBLISH
X-ORIGINAL-URL:https://mdjneuville.com
X-WR-CALDESC:Événements pour Maison des jeunes BGC de Neuville
REFRESH-INTERVAL;VALUE=DURATION:PT1H
X-Robots-Tag:noindex
X-PUBLISHED-TTL:PT1H
BEGIN:VTIMEZONE
TZID:America/Toronto
BEGIN:DAYLIGHT
TZOFFSETFROM:-0500
TZOFFSETTO:-0400
TZNAME:EDT
DTSTART:20280312T070000
END:DAYLIGHT
BEGIN:STANDARD
TZOFFSETFROM:-0400
TZOFFSETTO:-0500
TZNAME:EST
DTSTART:20281105T060000
END:STANDARD
BEGIN:DAYLIGHT
TZOFFSETFROM:-0500
TZOFFSETTO:-0400
TZNAME:EDT
DTSTART:20290311T070000
END:DAYLIGHT
BEGIN:STANDARD
TZOFFSETFROM:-0400
TZOFFSETTO:-0500
TZNAME:EST
DTSTART:20291104T060000
END:STANDARD
BEGIN:DAYLIGHT
TZOFFSETFROM:-0500
TZOFFSETTO:-0400
TZNAME:EDT
DTSTART:20300310T070000
END:DAYLIGHT
BEGIN:STANDARD
TZOFFSETFROM:-0400
TZOFFSETTO:-0500
TZNAME:EST
DTSTART:20301103T060000
END:STANDARD
END:VTIMEZONE
BEGIN:VEVENT
DTSTART;TZID=America/Toronto:20290316T180000
DTEND;TZID=America/Toronto:20290316T230000
DTSTAMP:20260424T124751
CREATED:20260303T215156Z
LAST-MODIFIED:20260323T231137Z
UID:10002613-1868378400-1868396400@mdjneuville.com
SUMMARY:Soirée libre
DESCRIPTION:Soirée libre à la MDJ pour les ados (12-17 ans).\nConsulte notre page Facebook ou Instagram pour savoir quels anims seront présents ce soir !
URL:https://mdjneuville.com/activite/soiree-libre-52/2029-03-16/
LOCATION:Maison des Jeunes de Neuville
CATEGORIES:Soirées libres
ATTACH;FMTTYPE=image/png:https://mdjneuville.com/wp-content/uploads/2025/10/Soiree-Libre.png
END:VEVENT
BEGIN:VEVENT
DTSTART;TZID=America/Toronto:20290317T170000
DTEND;TZID=America/Toronto:20290317T230000
DTSTAMP:20260424T124751
CREATED:20260218T214023Z
LAST-MODIFIED:20260324T013642Z
UID:10001817-1868461200-1868482800@mdjneuville.com
SUMMARY:Soirée libre
DESCRIPTION:Soirée libre à la MDJ pour les ados (12-17 ans).\nConsulte notre page Facebook ou Instagram pour savoir quels anims seront présents ce soir !
URL:https://mdjneuville.com/activite/soiree-libre-51/2029-03-17/
LOCATION:Maison des Jeunes de Neuville
CATEGORIES:Soirées libres
ATTACH;FMTTYPE=image/png:https://mdjneuville.com/wp-content/uploads/2025/10/Soiree-Libre.png
END:VEVENT
BEGIN:VEVENT
DTSTART;TZID=America/Toronto:20290321T170000
DTEND;TZID=America/Toronto:20290321T220000
DTSTAMP:20260424T124751
CREATED:20260218T213033Z
LAST-MODIFIED:20260324T012903Z
UID:10000939-1868806800-1868824800@mdjneuville.com
SUMMARY:Soirée libre
DESCRIPTION:Soirée libre à la MDJ pour les ados (12-17 ans).\nConsulte notre page Facebook ou Instagram pour savoir quels anims seront présents ce soir !
URL:https://mdjneuville.com/activite/soiree-libre-49/2029-03-21/
LOCATION:Maison des Jeunes de Neuville
CATEGORIES:Soirées libres
ATTACH;FMTTYPE=image/png:https://mdjneuville.com/wp-content/uploads/2025/10/Soiree-Libre.png
END:VEVENT
BEGIN:VEVENT
DTSTART;TZID=America/Toronto:20290322T170000
DTEND;TZID=America/Toronto:20290322T220000
DTSTAMP:20260424T124751
CREATED:20260218T213033Z
LAST-MODIFIED:20260324T012903Z
UID:10000940-1868893200-1868911200@mdjneuville.com
SUMMARY:Soirée libre
DESCRIPTION:Soirée libre à la MDJ pour les ados (12-17 ans).\nConsulte notre page Facebook ou Instagram pour savoir quels anims seront présents ce soir !
URL:https://mdjneuville.com/activite/soiree-libre-49/2029-03-22/
LOCATION:Maison des Jeunes de Neuville
CATEGORIES:Soirées libres
ATTACH;FMTTYPE=image/png:https://mdjneuville.com/wp-content/uploads/2025/10/Soiree-Libre.png
END:VEVENT
BEGIN:VEVENT
DTSTART;TZID=America/Toronto:20290323T150000
DTEND;TZID=America/Toronto:20290323T180000
DTSTAMP:20260424T124751
CREATED:20260303T205657Z
LAST-MODIFIED:20260324T013053Z
UID:10002082-1868972400-1868983200@mdjneuville.com
SUMMARY:Projet relève
DESCRIPTION:Période d’ouverture pour les jeunes de 5ième et 6ième année de l’école Courval.
URL:https://mdjneuville.com/activite/projet-releve-21/2029-03-23/
LOCATION:Maison des Jeunes de Neuville
CATEGORIES:Relèves
ATTACH;FMTTYPE=image/png:https://mdjneuville.com/wp-content/uploads/2025/10/IMAGE-PROJET-RELEVE.png
END:VEVENT
BEGIN:VEVENT
DTSTART;TZID=America/Toronto:20290323T180000
DTEND;TZID=America/Toronto:20290323T230000
DTSTAMP:20260424T124751
CREATED:20260303T215156Z
LAST-MODIFIED:20260323T231137Z
UID:10002614-1868983200-1869001200@mdjneuville.com
SUMMARY:Soirée libre
DESCRIPTION:Soirée libre à la MDJ pour les ados (12-17 ans).\nConsulte notre page Facebook ou Instagram pour savoir quels anims seront présents ce soir !
URL:https://mdjneuville.com/activite/soiree-libre-52/2029-03-23/
LOCATION:Maison des Jeunes de Neuville
CATEGORIES:Soirées libres
ATTACH;FMTTYPE=image/png:https://mdjneuville.com/wp-content/uploads/2025/10/Soiree-Libre.png
END:VEVENT
BEGIN:VEVENT
DTSTART;TZID=America/Toronto:20290324T170000
DTEND;TZID=America/Toronto:20290324T230000
DTSTAMP:20260424T124751
CREATED:20260218T214023Z
LAST-MODIFIED:20260324T013642Z
UID:10001818-1869066000-1869087600@mdjneuville.com
SUMMARY:Soirée libre
DESCRIPTION:Soirée libre à la MDJ pour les ados (12-17 ans).\nConsulte notre page Facebook ou Instagram pour savoir quels anims seront présents ce soir !
URL:https://mdjneuville.com/activite/soiree-libre-51/2029-03-24/
LOCATION:Maison des Jeunes de Neuville
CATEGORIES:Soirées libres
ATTACH;FMTTYPE=image/png:https://mdjneuville.com/wp-content/uploads/2025/10/Soiree-Libre.png
END:VEVENT
BEGIN:VEVENT
DTSTART;TZID=America/Toronto:20290328T170000
DTEND;TZID=America/Toronto:20290328T220000
DTSTAMP:20260424T124751
CREATED:20260218T213033Z
LAST-MODIFIED:20260324T012903Z
UID:10000941-1869411600-1869429600@mdjneuville.com
SUMMARY:Soirée libre
DESCRIPTION:Soirée libre à la MDJ pour les ados (12-17 ans).\nConsulte notre page Facebook ou Instagram pour savoir quels anims seront présents ce soir !
URL:https://mdjneuville.com/activite/soiree-libre-49/2029-03-28/
LOCATION:Maison des Jeunes de Neuville
CATEGORIES:Soirées libres
ATTACH;FMTTYPE=image/png:https://mdjneuville.com/wp-content/uploads/2025/10/Soiree-Libre.png
END:VEVENT
BEGIN:VEVENT
DTSTART;TZID=America/Toronto:20290329T170000
DTEND;TZID=America/Toronto:20290329T220000
DTSTAMP:20260424T124751
CREATED:20260218T213033Z
LAST-MODIFIED:20260324T012903Z
UID:10000942-1869498000-1869516000@mdjneuville.com
SUMMARY:Soirée libre
DESCRIPTION:Soirée libre à la MDJ pour les ados (12-17 ans).\nConsulte notre page Facebook ou Instagram pour savoir quels anims seront présents ce soir !
URL:https://mdjneuville.com/activite/soiree-libre-49/2029-03-29/
LOCATION:Maison des Jeunes de Neuville
CATEGORIES:Soirées libres
ATTACH;FMTTYPE=image/png:https://mdjneuville.com/wp-content/uploads/2025/10/Soiree-Libre.png
END:VEVENT
BEGIN:VEVENT
DTSTART;TZID=America/Toronto:20290330T150000
DTEND;TZID=America/Toronto:20290330T180000
DTSTAMP:20260424T124751
CREATED:20260303T205657Z
LAST-MODIFIED:20260324T013053Z
UID:10002083-1869577200-1869588000@mdjneuville.com
SUMMARY:Projet relève
DESCRIPTION:Période d’ouverture pour les jeunes de 5ième et 6ième année de l’école Courval.
URL:https://mdjneuville.com/activite/projet-releve-21/2029-03-30/
LOCATION:Maison des Jeunes de Neuville
CATEGORIES:Relèves
ATTACH;FMTTYPE=image/png:https://mdjneuville.com/wp-content/uploads/2025/10/IMAGE-PROJET-RELEVE.png
END:VEVENT
BEGIN:VEVENT
DTSTART;TZID=America/Toronto:20290330T180000
DTEND;TZID=America/Toronto:20290330T230000
DTSTAMP:20260424T124751
CREATED:20260303T215156Z
LAST-MODIFIED:20260323T231137Z
UID:10002615-1869588000-1869606000@mdjneuville.com
SUMMARY:Soirée libre
DESCRIPTION:Soirée libre à la MDJ pour les ados (12-17 ans).\nConsulte notre page Facebook ou Instagram pour savoir quels anims seront présents ce soir !
URL:https://mdjneuville.com/activite/soiree-libre-52/2029-03-30/
LOCATION:Maison des Jeunes de Neuville
CATEGORIES:Soirées libres
ATTACH;FMTTYPE=image/png:https://mdjneuville.com/wp-content/uploads/2025/10/Soiree-Libre.png
END:VEVENT
BEGIN:VEVENT
DTSTART;TZID=America/Toronto:20290331T170000
DTEND;TZID=America/Toronto:20290331T230000
DTSTAMP:20260424T124751
CREATED:20260218T214023Z
LAST-MODIFIED:20260324T013642Z
UID:10001819-1869670800-1869692400@mdjneuville.com
SUMMARY:Soirée libre
DESCRIPTION:Soirée libre à la MDJ pour les ados (12-17 ans).\nConsulte notre page Facebook ou Instagram pour savoir quels anims seront présents ce soir !
URL:https://mdjneuville.com/activite/soiree-libre-51/2029-03-31/
LOCATION:Maison des Jeunes de Neuville
CATEGORIES:Soirées libres
ATTACH;FMTTYPE=image/png:https://mdjneuville.com/wp-content/uploads/2025/10/Soiree-Libre.png
END:VEVENT
BEGIN:VEVENT
DTSTART;TZID=America/Toronto:20290404T170000
DTEND;TZID=America/Toronto:20290404T220000
DTSTAMP:20260424T124751
CREATED:20260218T213033Z
LAST-MODIFIED:20260324T012903Z
UID:10000943-1870016400-1870034400@mdjneuville.com
SUMMARY:Soirée libre
DESCRIPTION:Soirée libre à la MDJ pour les ados (12-17 ans).\nConsulte notre page Facebook ou Instagram pour savoir quels anims seront présents ce soir !
URL:https://mdjneuville.com/activite/soiree-libre-49/2029-04-04/
LOCATION:Maison des Jeunes de Neuville
CATEGORIES:Soirées libres
ATTACH;FMTTYPE=image/png:https://mdjneuville.com/wp-content/uploads/2025/10/Soiree-Libre.png
END:VEVENT
BEGIN:VEVENT
DTSTART;TZID=America/Toronto:20290405T170000
DTEND;TZID=America/Toronto:20290405T220000
DTSTAMP:20260424T124751
CREATED:20260218T213033Z
LAST-MODIFIED:20260324T012903Z
UID:10000944-1870102800-1870120800@mdjneuville.com
SUMMARY:Soirée libre
DESCRIPTION:Soirée libre à la MDJ pour les ados (12-17 ans).\nConsulte notre page Facebook ou Instagram pour savoir quels anims seront présents ce soir !
URL:https://mdjneuville.com/activite/soiree-libre-49/2029-04-05/
LOCATION:Maison des Jeunes de Neuville
CATEGORIES:Soirées libres
ATTACH;FMTTYPE=image/png:https://mdjneuville.com/wp-content/uploads/2025/10/Soiree-Libre.png
END:VEVENT
BEGIN:VEVENT
DTSTART;TZID=America/Toronto:20290406T150000
DTEND;TZID=America/Toronto:20290406T180000
DTSTAMP:20260424T124751
CREATED:20260303T205657Z
LAST-MODIFIED:20260324T013053Z
UID:10002084-1870182000-1870192800@mdjneuville.com
SUMMARY:Projet relève
DESCRIPTION:Période d’ouverture pour les jeunes de 5ième et 6ième année de l’école Courval.
URL:https://mdjneuville.com/activite/projet-releve-21/2029-04-06/
LOCATION:Maison des Jeunes de Neuville
CATEGORIES:Relèves
ATTACH;FMTTYPE=image/png:https://mdjneuville.com/wp-content/uploads/2025/10/IMAGE-PROJET-RELEVE.png
END:VEVENT
BEGIN:VEVENT
DTSTART;TZID=America/Toronto:20290406T180000
DTEND;TZID=America/Toronto:20290406T230000
DTSTAMP:20260424T124751
CREATED:20260303T215156Z
LAST-MODIFIED:20260323T231137Z
UID:10002616-1870192800-1870210800@mdjneuville.com
SUMMARY:Soirée libre
DESCRIPTION:Soirée libre à la MDJ pour les ados (12-17 ans).\nConsulte notre page Facebook ou Instagram pour savoir quels anims seront présents ce soir !
URL:https://mdjneuville.com/activite/soiree-libre-52/2029-04-06/
LOCATION:Maison des Jeunes de Neuville
CATEGORIES:Soirées libres
ATTACH;FMTTYPE=image/png:https://mdjneuville.com/wp-content/uploads/2025/10/Soiree-Libre.png
END:VEVENT
BEGIN:VEVENT
DTSTART;TZID=America/Toronto:20290407T170000
DTEND;TZID=America/Toronto:20290407T230000
DTSTAMP:20260424T124751
CREATED:20260218T214023Z
LAST-MODIFIED:20260324T013642Z
UID:10001820-1870275600-1870297200@mdjneuville.com
SUMMARY:Soirée libre
DESCRIPTION:Soirée libre à la MDJ pour les ados (12-17 ans).\nConsulte notre page Facebook ou Instagram pour savoir quels anims seront présents ce soir !
URL:https://mdjneuville.com/activite/soiree-libre-51/2029-04-07/
LOCATION:Maison des Jeunes de Neuville
CATEGORIES:Soirées libres
ATTACH;FMTTYPE=image/png:https://mdjneuville.com/wp-content/uploads/2025/10/Soiree-Libre.png
END:VEVENT
BEGIN:VEVENT
DTSTART;TZID=America/Toronto:20290411T170000
DTEND;TZID=America/Toronto:20290411T220000
DTSTAMP:20260424T124752
CREATED:20260218T213033Z
LAST-MODIFIED:20260324T012903Z
UID:10000945-1870621200-1870639200@mdjneuville.com
SUMMARY:Soirée libre
DESCRIPTION:Soirée libre à la MDJ pour les ados (12-17 ans).\nConsulte notre page Facebook ou Instagram pour savoir quels anims seront présents ce soir !
URL:https://mdjneuville.com/activite/soiree-libre-49/2029-04-11/
LOCATION:Maison des Jeunes de Neuville
CATEGORIES:Soirées libres
ATTACH;FMTTYPE=image/png:https://mdjneuville.com/wp-content/uploads/2025/10/Soiree-Libre.png
END:VEVENT
BEGIN:VEVENT
DTSTART;TZID=America/Toronto:20290412T170000
DTEND;TZID=America/Toronto:20290412T220000
DTSTAMP:20260424T124752
CREATED:20260218T213033Z
LAST-MODIFIED:20260324T012903Z
UID:10000946-1870707600-1870725600@mdjneuville.com
SUMMARY:Soirée libre
DESCRIPTION:Soirée libre à la MDJ pour les ados (12-17 ans).\nConsulte notre page Facebook ou Instagram pour savoir quels anims seront présents ce soir !
URL:https://mdjneuville.com/activite/soiree-libre-49/2029-04-12/
LOCATION:Maison des Jeunes de Neuville
CATEGORIES:Soirées libres
ATTACH;FMTTYPE=image/png:https://mdjneuville.com/wp-content/uploads/2025/10/Soiree-Libre.png
END:VEVENT
BEGIN:VEVENT
DTSTART;TZID=America/Toronto:20290413T150000
DTEND;TZID=America/Toronto:20290413T180000
DTSTAMP:20260424T124752
CREATED:20260303T205657Z
LAST-MODIFIED:20260324T013053Z
UID:10002085-1870786800-1870797600@mdjneuville.com
SUMMARY:Projet relève
DESCRIPTION:Période d’ouverture pour les jeunes de 5ième et 6ième année de l’école Courval.
URL:https://mdjneuville.com/activite/projet-releve-21/2029-04-13/
LOCATION:Maison des Jeunes de Neuville
CATEGORIES:Relèves
ATTACH;FMTTYPE=image/png:https://mdjneuville.com/wp-content/uploads/2025/10/IMAGE-PROJET-RELEVE.png
END:VEVENT
BEGIN:VEVENT
DTSTART;TZID=America/Toronto:20290413T180000
DTEND;TZID=America/Toronto:20290413T230000
DTSTAMP:20260424T124752
CREATED:20260303T215156Z
LAST-MODIFIED:20260323T231137Z
UID:10002617-1870797600-1870815600@mdjneuville.com
SUMMARY:Soirée libre
DESCRIPTION:Soirée libre à la MDJ pour les ados (12-17 ans).\nConsulte notre page Facebook ou Instagram pour savoir quels anims seront présents ce soir !
URL:https://mdjneuville.com/activite/soiree-libre-52/2029-04-13/
LOCATION:Maison des Jeunes de Neuville
CATEGORIES:Soirées libres
ATTACH;FMTTYPE=image/png:https://mdjneuville.com/wp-content/uploads/2025/10/Soiree-Libre.png
END:VEVENT
BEGIN:VEVENT
DTSTART;TZID=America/Toronto:20290414T170000
DTEND;TZID=America/Toronto:20290414T230000
DTSTAMP:20260424T124752
CREATED:20260218T214023Z
LAST-MODIFIED:20260324T013642Z
UID:10001821-1870880400-1870902000@mdjneuville.com
SUMMARY:Soirée libre
DESCRIPTION:Soirée libre à la MDJ pour les ados (12-17 ans).\nConsulte notre page Facebook ou Instagram pour savoir quels anims seront présents ce soir !
URL:https://mdjneuville.com/activite/soiree-libre-51/2029-04-14/
LOCATION:Maison des Jeunes de Neuville
CATEGORIES:Soirées libres
ATTACH;FMTTYPE=image/png:https://mdjneuville.com/wp-content/uploads/2025/10/Soiree-Libre.png
END:VEVENT
BEGIN:VEVENT
DTSTART;TZID=America/Toronto:20290418T170000
DTEND;TZID=America/Toronto:20290418T220000
DTSTAMP:20260424T124752
CREATED:20260218T213033Z
LAST-MODIFIED:20260324T012903Z
UID:10000947-1871226000-1871244000@mdjneuville.com
SUMMARY:Soirée libre
DESCRIPTION:Soirée libre à la MDJ pour les ados (12-17 ans).\nConsulte notre page Facebook ou Instagram pour savoir quels anims seront présents ce soir !
URL:https://mdjneuville.com/activite/soiree-libre-49/2029-04-18/
LOCATION:Maison des Jeunes de Neuville
CATEGORIES:Soirées libres
ATTACH;FMTTYPE=image/png:https://mdjneuville.com/wp-content/uploads/2025/10/Soiree-Libre.png
END:VEVENT
BEGIN:VEVENT
DTSTART;TZID=America/Toronto:20290419T170000
DTEND;TZID=America/Toronto:20290419T220000
DTSTAMP:20260424T124752
CREATED:20260218T213033Z
LAST-MODIFIED:20260324T012903Z
UID:10000948-1871312400-1871330400@mdjneuville.com
SUMMARY:Soirée libre
DESCRIPTION:Soirée libre à la MDJ pour les ados (12-17 ans).\nConsulte notre page Facebook ou Instagram pour savoir quels anims seront présents ce soir !
URL:https://mdjneuville.com/activite/soiree-libre-49/2029-04-19/
LOCATION:Maison des Jeunes de Neuville
CATEGORIES:Soirées libres
ATTACH;FMTTYPE=image/png:https://mdjneuville.com/wp-content/uploads/2025/10/Soiree-Libre.png
END:VEVENT
BEGIN:VEVENT
DTSTART;TZID=America/Toronto:20290420T150000
DTEND;TZID=America/Toronto:20290420T180000
DTSTAMP:20260424T124752
CREATED:20260303T205657Z
LAST-MODIFIED:20260324T013053Z
UID:10002086-1871391600-1871402400@mdjneuville.com
SUMMARY:Projet relève
DESCRIPTION:Période d’ouverture pour les jeunes de 5ième et 6ième année de l’école Courval.
URL:https://mdjneuville.com/activite/projet-releve-21/2029-04-20/
LOCATION:Maison des Jeunes de Neuville
CATEGORIES:Relèves
ATTACH;FMTTYPE=image/png:https://mdjneuville.com/wp-content/uploads/2025/10/IMAGE-PROJET-RELEVE.png
END:VEVENT
BEGIN:VEVENT
DTSTART;TZID=America/Toronto:20290420T180000
DTEND;TZID=America/Toronto:20290420T230000
DTSTAMP:20260424T124752
CREATED:20260303T215156Z
LAST-MODIFIED:20260323T231137Z
UID:10002618-1871402400-1871420400@mdjneuville.com
SUMMARY:Soirée libre
DESCRIPTION:Soirée libre à la MDJ pour les ados (12-17 ans).\nConsulte notre page Facebook ou Instagram pour savoir quels anims seront présents ce soir !
URL:https://mdjneuville.com/activite/soiree-libre-52/2029-04-20/
LOCATION:Maison des Jeunes de Neuville
CATEGORIES:Soirées libres
ATTACH;FMTTYPE=image/png:https://mdjneuville.com/wp-content/uploads/2025/10/Soiree-Libre.png
END:VEVENT
BEGIN:VEVENT
DTSTART;TZID=America/Toronto:20290421T170000
DTEND;TZID=America/Toronto:20290421T230000
DTSTAMP:20260424T124752
CREATED:20260218T214023Z
LAST-MODIFIED:20260324T013642Z
UID:10001822-1871485200-1871506800@mdjneuville.com
SUMMARY:Soirée libre
DESCRIPTION:Soirée libre à la MDJ pour les ados (12-17 ans).\nConsulte notre page Facebook ou Instagram pour savoir quels anims seront présents ce soir !
URL:https://mdjneuville.com/activite/soiree-libre-51/2029-04-21/
LOCATION:Maison des Jeunes de Neuville
CATEGORIES:Soirées libres
ATTACH;FMTTYPE=image/png:https://mdjneuville.com/wp-content/uploads/2025/10/Soiree-Libre.png
END:VEVENT
BEGIN:VEVENT
DTSTART;TZID=America/Toronto:20290425T170000
DTEND;TZID=America/Toronto:20290425T220000
DTSTAMP:20260424T124752
CREATED:20260218T213033Z
LAST-MODIFIED:20260324T012903Z
UID:10000949-1871830800-1871848800@mdjneuville.com
SUMMARY:Soirée libre
DESCRIPTION:Soirée libre à la MDJ pour les ados (12-17 ans).\nConsulte notre page Facebook ou Instagram pour savoir quels anims seront présents ce soir !
URL:https://mdjneuville.com/activite/soiree-libre-49/2029-04-25/
LOCATION:Maison des Jeunes de Neuville
CATEGORIES:Soirées libres
ATTACH;FMTTYPE=image/png:https://mdjneuville.com/wp-content/uploads/2025/10/Soiree-Libre.png
END:VEVENT
BEGIN:VEVENT
DTSTART;TZID=America/Toronto:20290426T170000
DTEND;TZID=America/Toronto:20290426T220000
DTSTAMP:20260424T124752
CREATED:20260218T213033Z
LAST-MODIFIED:20260324T012903Z
UID:10000950-1871917200-1871935200@mdjneuville.com
SUMMARY:Soirée libre
DESCRIPTION:Soirée libre à la MDJ pour les ados (12-17 ans).\nConsulte notre page Facebook ou Instagram pour savoir quels anims seront présents ce soir !
URL:https://mdjneuville.com/activite/soiree-libre-49/2029-04-26/
LOCATION:Maison des Jeunes de Neuville
CATEGORIES:Soirées libres
ATTACH;FMTTYPE=image/png:https://mdjneuville.com/wp-content/uploads/2025/10/Soiree-Libre.png
END:VEVENT
BEGIN:VEVENT
DTSTART;TZID=America/Toronto:20290427T150000
DTEND;TZID=America/Toronto:20290427T180000
DTSTAMP:20260424T124752
CREATED:20260303T205657Z
LAST-MODIFIED:20260324T013053Z
UID:10002087-1871996400-1872007200@mdjneuville.com
SUMMARY:Projet relève
DESCRIPTION:Période d’ouverture pour les jeunes de 5ième et 6ième année de l’école Courval.
URL:https://mdjneuville.com/activite/projet-releve-21/2029-04-27/
LOCATION:Maison des Jeunes de Neuville
CATEGORIES:Relèves
ATTACH;FMTTYPE=image/png:https://mdjneuville.com/wp-content/uploads/2025/10/IMAGE-PROJET-RELEVE.png
END:VEVENT
END:VCALENDAR